BEGIN:VCALENDAR
VERSION:2.0
PRODID:-//ChamberMaster//Event Calendar 2.0//EN
METHOD:PUBLISH
X-PUBLISHED-TTL:P3D
REFRESH-INTERVAL:P3D
CALSCALE:GREGORIAN
BEGIN:VEVENT
DTSTART;VALUE=DATE:20160914
DTEND;VALUE=DATE:20160915
TRANSP:TRANSPARENT
X-MICROSOFT-CDO-ALLDAYEVENT:TRUE
SUMMARY:2016 - DISC GOLF
DESCRIPTION:NEW FUN NETWORKING EVENT!\n\nA 30-minute demo will take place before game start\, and a professional player will be with each 2-member team. Lots of help and support in learning how to play. Refreshments (sandwiches and non-alcoholic beverages) will be offered at no charge at the Cannon Ridge Golf Course. Afterwards\, we'll head over to Cancun Margarita Bar and Grill (at Spotsy Town Center) for socializing. \n\nFABA Members join together to play a round of Disc Golf on a Par 3 course through the woods and meadows. A professional will be on each team\, so we will all learn how to play! \n\nEvent Info:\n\nThe event is limited to 72 players (each team will consist of two players and one pro.) Tennis shoes or hiking boots are advised for the terrain.  Sandwiches\, chips\, cookies\, and non-alcoholic drinks will be served. \n\nSchedule of the day:\n\n3:00pm lessons/practice 4:00pm shotgun start \n\nAfter tournament get together is at Cancun Margarita Bar & Grill (625 Spotsylvania Towne Centre\, Fredericksburg\, VA 22407)\n\n18 - SPONOSRSHIP Hole -$50.00 are available
X-ALT-DESC;FMTTYPE=text/html:<p><strong>NEW FUN NETWORKING EVENT!</strong></p>\n\n<p><span>A 30-minute demo will take place before game start\, and a professional player will be with each 2-member team. Lots of help and support in learning how to play. Refreshments (sandwiches and non-alcoholic beverages) will be offered at no charge at the Cannon Ridge Golf Course. Afterwards\, we&rsquo\;ll head over to Cancun Margarita Bar and Grill (at Spotsy Town Center) for socializing. </span></p>\n\n<p><span><strong>FABA Members</strong> join together to play a round of Disc Golf on a Par 3 course through the woods and meadows. A professional will be on each team\, so we will all learn how to play! </span></p>\n\n<p><span><strong>Event Info</strong>:</span></p>\n\n<p><span>The event is limited to 72 players (each team will consist of two players and one pro.)</span> <span>Tennis shoes or hiking boots are advised for the terrain. </span> <span><span>Sandwiches\, chips\, cookies\, and non-alcoholic drinks will be served. </span></span></p>\n\n<p><strong>Schedule of the day:</strong></p>\n\n<p><span><span>3:00pm lessons/practice 4:00pm shotgun start </span></span></p>\n\n<p><span>After tournament get together is at Cancun </span><span>Margarita Bar &amp\; Grill (625 Spotsylvania Towne Centre\, Fredericksburg\, VA 22407)</span></p>\n\n<p><span><strong>18 - SPONOSRSHIP Hole -$50.00 are available</strong> </span></p>\n\n<p>&nbsp\;</p>\n
LOCATION:6310 Cannon Ridge\, Fredericksburg\, VA 22407
UID:e.9458.120
SEQUENCE:3
DTSTAMP:20260425T122651Z
URL:https://members.fabava.com/events/details/2016-disc-golf-120
END:VEVENT

END:VCALENDAR
