BEGIN:VCALENDAR
VERSION:2.0
PRODID:-//ChamberMaster//Event Calendar 2.0//EN
METHOD:PUBLISH
X-PUBLISHED-TTL:P3D
REFRESH-INTERVAL:P3D
CALSCALE:GREGORIAN
BEGIN:VEVENT
DTSTART:20161008T140000Z
DTEND:20161008T200000Z
X-MICROSOFT-CDO-ALLDAYEVENT:FALSE
SUMMARY:2016 - FABA PARADE OF HOMES- Open to Public
DESCRIPTION:Over 30 homes\, tiny homes\, and design rooms will be on Parade the first two weekends in October 1 & 2\, 8 & 9\, opened 10:00am-4:00pm each day.\n\n \n\nFor more information\, come by the FABA office at 3006 Lafayette Boulevard\, VA 22408\, or call 540-898-2730\n\n \n\nOnline map: Paradecraze. Link coming soon.\n\nFABA Parade of Homes website: http://www.fredparade.com/\n\n \n\nParade of Homes Facebook: https://www.facebook.com/Fredericksburg-Parade-of-Homes-777021265739110/
X-ALT-DESC;FMTTYPE=text/html:<p>Over 30 homes\, tiny homes\, and design rooms will be on Parade the first two weekends in October 1 &amp\; 2\, 8 &amp\; 9\, opened 10:00am-4:00pm each day.</p>\n\n<p>&nbsp\;</p>\n\n<p>For more information\, come by the FABA office at 3006 Lafayette Boulevard\, VA 22408\, or call 540-898-2730</p>\n\n<p>&nbsp\;</p>\n\n<p>Online map: Paradecraze. Link coming soon.</p>\n\n<p>FABA Parade of Homes website: <a href="http://www.fredparade.com/">http://www.fredparade.com/</a></p>\n\n<p>&nbsp\;</p>\n\n<p>Parade of Homes Facebook: <a href="https://www.facebook.com/Fredericksburg-Parade-of-Homes-777021265739110/">https://www.facebook.com/Fredericksburg-Parade-of-Homes-777021265739110/</a></p>\n
LOCATION:
UID:e.9458.131
SEQUENCE:3
DTSTAMP:20260425T110113Z
URL:https://members.fabava.com/events/details/2016-faba-parade-of-homes-open-to-public-131
END:VEVENT

END:VCALENDAR
