BEGIN:VCALENDAR
VERSION:2.0
PRODID:-//ChamberMaster//Event Calendar 2.0//EN
METHOD:PUBLISH
X-PUBLISHED-TTL:P3D
REFRESH-INTERVAL:P3D
CALSCALE:GREGORIAN
BEGIN:VEVENT
DTSTART:20161110T220000Z
DTEND:20161111T010000Z
X-MICROSOFT-CDO-ALLDAYEVENT:FALSE
SUMMARY:2016 - FABA's ANNUAL MEETING HARD HAT AFTER HOURS-NETWORKING
DESCRIPTION:Join us for the FABA Annual Meeting. The Nominating Committee will present the slate of\n\nofficers/directors for 2017. This is a great opportunity to catch up with friends and\n\nmake new acquaintences.
X-ALT-DESC;FMTTYPE=text/html:<p>&nbsp\;</p>\n\n<p>&nbsp\;</p>\n\n<p>&nbsp\;</p>\n<span style="font-family:Tahoma\,Geneva\,sans-serif\;font-size:small\;">Join us for the FABA </span>Annual Meeting.&nbsp\;The Nominating Committee will present the slate of<br />\nofficers/directors for 2017. This is a great opportunity to catch up with friends and<br />\nmake new acquaintences.\n<p>&nbsp\;</p>\n
LOCATION:Behind Spotsylvania Towne Centre (Mall)
UID:e.9458.65
SEQUENCE:3
DTSTAMP:20260425T110528Z
URL:https://members.fabava.com/events/details/2016-faba-s-annual-meeting-hard-hat-after-hours-networking-65
END:VEVENT

END:VCALENDAR
