BEGIN:VCALENDAR
VERSION:2.0
PRODID:-//ChamberMaster//Event Calendar 2.0//EN
METHOD:PUBLISH
X-PUBLISHED-TTL:P3D
REFRESH-INTERVAL:P3D
CALSCALE:GREGORIAN
BEGIN:VEVENT
DTSTART:20161016T160000Z
DTEND:20161016T200000Z
X-MICROSOFT-CDO-ALLDAYEVENT:FALSE
SUMMARY:2016 - FABA TAILGATE
DESCRIPTION:Register at: https://www.eventbrite.com/e/faba-members-2016-tailgate-tickets-27638695081\n\n \n\n2016FABA TAILGATE\n\n            Members\, their employees\, and families are welcome!\n\nRAIN OR SHINE! An Associate Appreciation Day where Builders work their magic with chili masterpieces. Associates will be the judges! This event will be held at Dominion Raceway. Park in the infield to watch Washington vs Philadelphia NFL Football game on the jumbo Tron\, have chili\, hamburgers and/or hotdogs\, and mingle\, and if you want - participate in the 50/50 football pool. \n\nInclement weather:\n\nThe event will be inside Dominion's main building\, at the 118 Bar & Grill. From there\, the game can be seen on the jumbo Tron through the wall of windows or the many televisions positioned around the restaurant.\n\nEVENT DAY SCHEDULE:\n\n11:00am Builder Chili Cook-off Entrant's Setup\n\n12:00pm Guest Arrivals/Chili Voting Begins\n\nWhat to expect at Registration:\n\n\n	\n	\n		\n		\n			  \n			Each member will receive 1 meal ticket for choice of hotdog/hamburger/chicken sandwich\, French fries\, and a 20oz non-alcoholic drink\n			  \n			1 guest per member will receive a meal ticket for choice of the above items.\n			  \n			Members receive 3 beverage tickets for choice of beer/wine/cider/sodas/ice tea\n			  \n			Associate Members will receive one ballot to vote. (Wooden ballot box will be at the registration table or walking around with Debbie.)\n			  \n			Choice on purchasing a $5.00/football square. Cash only. No ATMs on site.\n		\n		\n	\n	\n\n\nFOOTBALL POOLS: \n\n\n	Pre-game day: $20.00/squares. Cash due by start of game. Winners announced after each quarter. Rather talk to a person? Contact Frank Sigmon\, with Builders First Source\, frank.sigmon@bldr.com\, or Debbie Acors at admin@fabava.com\, 540-898-2730\n	Game day: $5.00/squares.\n\n	 \n\n\nIMPORTANT INFORMATION:\n\n\n	Concession available. No ATM onsite. Credit cards accepted. \n\n\n\n	At the end of the First Quarter of football game\, Chili      Voting Ends. Large bowls will be available for chili.\n	At halftime the Chili Cook-off Winner will be announced.      \n	50/50      Football Pool Winners Announced after Each Quarter.\n\n\nBUILDERS OR BUILDER EMPLOYEES\, Interested in competing for the best darn chili in town? Click CHILI to be directed to the rules. \n\n \n\n \n\nTHANK YOU to the FABA Cornerstone Sponsors\, this event is free to members.
X-ALT-DESC;FMTTYPE=text/html:<p>&nbsp\;</p>\n\n<p style="line-height:normal\;">&nbsp\;</p>\n\n<p style="line-height:normal\;">&nbsp\;</p>\n\n<p style="line-height:normal\;">&nbsp\;</p>\n\n<p style="line-height:normal\;">&nbsp\;</p>\n\n<p style="line-height:normal\;">&nbsp\;</p>\n\n<p style="line-height:normal\;">&nbsp\;</p>\n\n<p style="line-height:normal\;">&nbsp\;</p>\n\n<p style="line-height:normal\;"><strong><span style="color:#339900\;font-size:small\;">Register at: </span></strong><a href="https://www.eventbrite.com/e/faba-members-2016-tailgate-tickets-27638695081"><strong><span style="color:#339900\;font-size:small\;">https://www.eventbrite.com/e/faba-members-2016-tailgate-tickets-27638695081</span></strong></a></p>\n\n<p style="line-height:normal\;">&nbsp\;</p>\n\n<p style="line-height:normal\;tab-stops:58.5pt\;"><strong><span style="font-family:'Times New Roman'\,serif\;font-size:18pt\;">2016</span></strong><strong><span style="font-family:'Times New Roman'\,serif\;font-size:18pt\;">FABA</span></strong><strong><span style="font-family:'Times New Roman'\,serif\;font-size:18pt\;"> TAILGATE<br />\n<span>&nbsp\;&nbsp\;&nbsp\;&nbsp\;&nbsp\;&nbsp\;&nbsp\;&nbsp\;&nbsp\;&nbsp\;&nbsp\; </span>Members\, their employees\, and families are welcome!</span></strong></p>\n\n<p style="line-height:normal\;"><strong><span style="font-family:'Times New Roman'\,serif\;font-size:12pt\;">RAIN OR SHINE!</span></strong><span style="font-family:'Times New Roman'\,serif\;font-size:12pt\;"> An Associate Appreciation Day where Builders work their magic with chili masterpieces. Associates will be the judges! This event will be held at Dominion Raceway. Park in the infield to watch Washington vs Philadelphia NFL Football game on the jumbo Tron\, have chili\, hamburgers and/or hotdogs\, and mingle\, and if you want - participate in the 50/50 football pool. </span></p>\n\n<p style="line-height:normal\;"><strong><span style="font-family:'Times New Roman'\,serif\;font-size:12pt\;">Inclement weather:</span></strong><br />\n<span style="font-family:'Times New Roman'\,serif\;font-size:12pt\;">The event will be inside Dominion&rsquo\;s main building\, at the 118 Bar &amp\; Grill. From there\, the game can be seen on the jumbo Tron through the wall of windows or the many televisions positioned around the restaurant.</span></p>\n\n<p style="line-height:normal\;"><strong><span style="font-family:'Times New Roman'\,serif\;font-size:12pt\;">EVENT DAY SCHEDULE:</span></strong></p>\n\n<p style="line-height:normal\;margin-bottom:6pt\;margin-left:0.25in\;"><strong><span style="font-family:'Times New Roman'\,serif\;font-size:12pt\;">11:00am</span></strong><span style="font-family:'Times New Roman'\,serif\;font-size:12pt\;"> Builder Chili Cook-off Entrant&rsquo\;s Setup</span></p>\n\n<p style="line-height:normal\;margin-bottom:6pt\;margin-left:0.25in\;"><strong><span style="font-family:'Times New Roman'\,serif\;font-size:12pt\;">12:00pm</span></strong><span style="font-family:'Times New Roman'\,serif\;font-size:12pt\;"> Guest Arrivals/Chili Voting Begins</span></p>\n\n<p style="line-height:normal\;margin-left:0.75in\;"><strong><span style="font-family:'Times New Roman'\,serif\;font-size:12pt\;">What to expect at Registration:</span></strong></p>\n\n<ul type="disc">\n	<li>\n	<ul type="circle">\n		<li>\n		<ul type="square">\n			<li>&nbsp\;&nbsp\;</li>\n			<li style="line-height:normal\;tab-stops:list 1.5in\;"><span style="font-family:'Times New Roman'\,serif\;font-size:12pt\;">Each member will receive 1 meal ticket for choice of&nbsp\;hotdog/hamburger/chicken sandwich\, French fries\, and a 20oz non-alcoholic&nbsp\;drink</span></li>\n			<li>&nbsp\;&nbsp\;</li>\n			<li style="line-height:normal\;tab-stops:list 1.5in\;"><span style="font-family:'Times New Roman'\,serif\;font-size:12pt\;">1 guest per member will receive a meal ticket for choice of the above items.</span></li>\n			<li>&nbsp\;&nbsp\;</li>\n			<li style="line-height:normal\;tab-stops:list 1.5in\;"><span style="font-family:'Times New Roman'\,serif\;font-size:12pt\;">Members receive 3 beverage tickets for choice of&nbsp\;beer/wine/cider/sodas/ice tea</span></li>\n			<li>&nbsp\;&nbsp\;</li>\n			<li style="line-height:normal\;tab-stops:list 1.5in\;"><span style="font-family:'Times New Roman'\,serif\;font-size:12pt\;">Associate Members will receive one ballot to vote.&nbsp\;(Wooden ballot box will be at the registration table or walking around with Debbie.)</span></li>\n			<li>&nbsp\;&nbsp\;</li>\n			<li style="line-height:normal\;margin-bottom:6pt\;tab-stops:list 1.5in\;"><span style="font-family:'Times New Roman'\,serif\;font-size:12pt\;">Choice on purchasing a $5.00/football square. Cash&nbsp\;only. No ATMs on site.</span></li>\n		</ul>\n		</li>\n	</ul>\n	</li>\n</ul>\n\n<p style="line-height:normal\;margin-bottom:0pt\;"><strong><span style="font-family:'Times New Roman'\,serif\;font-size:12pt\;">FOOTBALL POOLS</span></strong><span style="font-family:'Times New Roman'\,serif\;font-size:12pt\;">: </span></p>\n\n<ul>\n	<li><strong><span style="font-family:'Times New Roman'\,serif\;font-size:12pt\;">Pre-game day</span></strong><span style="font-family:'Times New Roman'\,serif\;font-size:12pt\;">: $20.00/squares. Cash due by start of game. Winners announced after each quarter.</span> <span style="font-family:'Times New Roman'\,serif\;font-size:12pt\;">Rather talk to a person?</span><span style="font-family:'Times New Roman'\,serif\;font-size:12pt\;"> Contact Frank Sigmon\, with Builders First Source\, </span><a target="_blank"><span style="color:blue\;font-family:'Times New Roman'\,serif\;font-size:12pt\;">frank.sigmon@bldr.com</span></a><span style="font-family:'Times New Roman'\,serif\;font-size:12pt\;">\, or Debbie Acors at </span><a target="_blank"><span style="color:blue\;font-family:'Times New Roman'\,serif\;font-size:12pt\;">admin@fabava.com</span></a><span style="font-family:'Times New Roman'\,serif\;font-size:12pt\;">\, 540-898-2730</span></li>\n	<li><strong><span style="font-family:'Times New Roman'\,serif\;font-size:12pt\;">Game day:</span></strong><span style="font-family:'Times New Roman'\,serif\;font-size:12pt\;"> $5.00/squares.</span><br />\n	&nbsp\;</li>\n</ul>\n\n<p style="line-height:normal\;"><strong><span style="font-family:'Times New Roman'\,serif\;font-size:12pt\;">IMPORTANT INFORMATION</span></strong><span style="font-family:'Times New Roman'\,serif\;font-size:12pt\;">:</span></p>\n\n<ul>\n	<li><span style="font-family:'Times New Roman'\,serif\;font-size:12pt\;">Concession available. No ATM onsite. Credit cards accepted. </span></li>\n</ul>\n\n<ul type="disc">\n	<li style="line-height:normal\;tab-stops:list .5in\;"><span style="font-family:'Times New Roman'\,serif\;font-size:12pt\;">At the end of the First Quarter of football game\, Chili &nbsp\;&nbsp\;&nbsp\;&nbsp\; Voting Ends. Large bowls will be available for chili.</span></li>\n	<li style="line-height:normal\;tab-stops:list .5in\;"><span style="font-family:'Times New Roman'\,serif\;font-size:12pt\;">At halftime the Chili Cook-off Winner will be announced. &nbsp\;&nbsp\;&nbsp\;&nbsp\; </span></li>\n	<li style="line-height:normal\;tab-stops:list .5in\;"><span style="font-family:'Times New Roman'\,serif\;font-size:12pt\;">50/50 &nbsp\;&nbsp\;&nbsp\;&nbsp\; Football Pool Winners Announced after Each Quarter.</span></li>\n</ul>\n\n<p style="line-height:normal\;margin-bottom:0pt\;"><strong><span style="font-family:'Times New Roman'\,serif\;font-size:12pt\;">BUILDERS OR BUILDER EMPLOYEES\, Interested in competing for the best darn chili in town? Click <a href="http://www.fabava.com/2016-tailgate-chili-entry-rules/">CHILI</a> to be directed to the rules. </span></strong></p>\n\n<p style="line-height:normal\;margin-bottom:0pt\;">&nbsp\;</p>\n\n<p style="margin:0in 0in 8pt\;">&nbsp\;</p>\n\n<p style="margin:0in 0in 8pt\;"><strong>THANK YOU to the FABA Cornerstone Sponsors\, this event is free to members.</strong></p>\n\n<p>&nbsp\;</p>\n\n<p>&nbsp\;</p>\n\n<p>&nbsp\;</p>\n\n<p>&nbsp\;</p>\n\n<p>&nbsp\;</p>\n
LOCATION:Dominion Raceway 6501 Dominion Raceway Avenue\, Thornburg\, VA 22580
UID:e.9458.127
SEQUENCE:3
DTSTAMP:20260425T110327Z
URL:https://members.fabava.com/events/details/2016-faba-tailgate-127
END:VEVENT

END:VCALENDAR
