BEGIN:VCALENDAR
VERSION:2.0
PRODID:-//ChamberMaster//Event Calendar 2.0//EN
METHOD:PUBLISH
X-PUBLISHED-TTL:P3D
REFRESH-INTERVAL:P3D
CALSCALE:GREGORIAN
BEGIN:VEVENT
DTSTART:20160930T220000Z
DTEND:20161001T010000Z
X-MICROSOFT-CDO-ALLDAYEVENT:FALSE
SUMMARY:2016 - PARADE OF HOMES CELEBRATION
DESCRIPTION:Join FABA in recognizing Parade of Homes award winning entries!\n\n \n\nEvent Schedule:\n\n6:00 Reception/Networking\n\n7:00 Awards Presentation\n\n8:00 Celebration/Networking\n\n \n\nAdmission includes heavy appetizers and open bar.\n\n \n\nPlease enter your full name and company under attendee information. Names will be at registration. No tickets needed.
X-ALT-DESC;FMTTYPE=text/html:<p><span style="font-size:medium\;">Join FABA in recognizing Parade of Homes award winning entries!</span></p>\n\n<p>&nbsp\;</p>\n\n<p><span style="font-size:medium\;">Event Schedule:</span></p>\n\n<p><span style="font-size:medium\;">6:00 Reception/Networking</span></p>\n\n<p><span style="font-size:medium\;">7:00 Awards Presentation</span></p>\n\n<p><span style="font-size:medium\;">8:00 Celebration/Networking</span></p>\n\n<p>&nbsp\;</p>\n\n<p><span style="font-size:medium\;">Admission includes heavy appetizers and open bar.</span></p>\n\n<p>&nbsp\;</p>\n\n<p><span style="font-size:medium\;">Please enter your full name and company under attendee information.&nbsp\;Names will be at registration. No tickets&nbsp\;needed.&nbsp\;</span></p>\n\n<p>&nbsp\;</p>\n\n<p>&nbsp\;</p>\n\n<p>&nbsp\;</p>\n\n<p>&nbsp\;</p>\n\n<p>&nbsp\;</p>\n\n<p>&nbsp\;</p>\n\n<p>&nbsp\;</p>\n\n<p>&nbsp\;</p>\n\n<p>&nbsp\;</p>\n\n<p>&nbsp\;</p>\n\n<p>&nbsp\;</p>\n\n<p>&nbsp\;</p>\n\n<p>&nbsp\;</p>\n\n<p>&nbsp\;</p>\n\n<p>&nbsp\;</p>\n\n<p>&nbsp\;</p>\n\n<p>&nbsp\;</p>\n\n<p>&nbsp\;</p>\n
LOCATION:Stevenson Ridge\, 6901 Meeting Street\, Spotsylvania\, VA
UID:e.9458.108
SEQUENCE:3
DTSTAMP:20260425T122750Z
URL:https://members.fabava.com/events/details/2016-parade-of-homes-celebration-108
END:VEVENT

END:VCALENDAR
