BEGIN:VCALENDAR
VERSION:2.0
PRODID:-//ChamberMaster//Event Calendar 2.0//EN
METHOD:PUBLISH
X-PUBLISHED-TTL:P3D
REFRESH-INTERVAL:P3D
CALSCALE:GREGORIAN
BEGIN:VEVENT
DTSTART:20170329T113000Z
DTEND:20170329T130000Z
X-MICROSOFT-CDO-ALLDAYEVENT:FALSE
SUMMARY:2017 - BUILDER BREAKFAST - Mike Toalson Speaker
DESCRIPTION:BUILDERS/DEVELOPERS/REMODELERS Legislative/FACT-PAC Breakfast with Speaker Mike Toalson\n\n\n\nStaying for Builder-Direct connect? No need to register under the breakfast\,  register here    Builder/Developer/Remodelers Registration-no charge\n\n\n\nCALL THE OFFICE WITH ANY QUESTIONS!
X-ALT-DESC;FMTTYPE=text/html:<strong>BUILDERS/DEVELOPERS/</strong><strong>REMODELERS</strong>&nbsp\;Legislative/FACT-PAC Breakfast with Speaker Mike Toalson<br />\n<br />\nStaying for Builder-Direct connect? No need to register under the breakfast\, &nbsp\;register here &gt\;&gt\;&gt\;<a href="http://fabava.memberzone.com/events/details/builder-direct-connect-builders-registration-560" target="_blank">Builder/Developer/Remodelers&nbsp\;Registration-no charge</a><br />\n<br />\n<span style="color:#FF0000\;">CALL THE OFFICE WITH ANY QUESTIONS!</span>
LOCATION:Fredericksburg Country Club 11301 Tidewater Trail Fredericksburg\, VA 22408
UID:e.9458.562
SEQUENCE:3
DTSTAMP:20260425T040303Z
URL:https://members.fabava.com/events/details/2017-builder-breakfast-mike-toalson-speaker-562
END:VEVENT

END:VCALENDAR
