BEGIN:VCALENDAR
VERSION:2.0
PRODID:-//ChamberMaster//Event Calendar 2.0//EN
METHOD:PUBLISH
X-PUBLISHED-TTL:P3D
REFRESH-INTERVAL:P3D
CALSCALE:GREGORIAN
BEGIN:VEVENT
DTSTART:20170329T130000Z
DTEND:20170329T150000Z
X-MICROSOFT-CDO-ALLDAYEVENT:FALSE
SUMMARY:2017 - Builder Direct Connect-Builders Registration
DESCRIPTION:Builders: \n\n\n\nOpportunity to sit in front of 20 vendors to see their new products\, learn the market happenings\, new innovations in the industry\, and find ways to save money. One stop shopping. And a wonderful way to say thank you to the Associate Members
X-ALT-DESC;FMTTYPE=text/html:<strong><span style="font-size:24.0pt\;">Builders: </span></strong><br />\n<br />\nOpportunity to sit in front of 20 vendors to see their new products\, learn the market happenings\, new innovations in the industry\, and find ways to save money. One stop shopping. And a wonderful way to say thank you to the Associate Members&nbsp\;<br />\n&nbsp\;<br />\n&nbsp\;
LOCATION:Fredericksburg Country Club 11301 Tidewater Trail Fredericksburg\, VA 22408
UID:e.9458.560
SEQUENCE:3
DTSTAMP:20260425T021916Z
URL:https://members.fabava.com/events/details/2017-builder-direct-connect-builders-registration-560
END:VEVENT

END:VCALENDAR
