BEGIN:VCALENDAR
VERSION:2.0
PRODID:-//ChamberMaster//Event Calendar 2.0//EN
METHOD:PUBLISH
X-PUBLISHED-TTL:P3D
REFRESH-INTERVAL:P3D
CALSCALE:GREGORIAN
BEGIN:VEVENT
DTSTART:20170426T193000Z
DTEND:20170426T230000Z
X-MICROSOFT-CDO-ALLDAYEVENT:FALSE
SUMMARY:2017 - DISC GOLF
DESCRIPTION:After registering\, please email admin@fabava.com or call 540-898-2730 with your partner's name.
X-ALT-DESC;FMTTYPE=text/html:After registering\, please email admin@fabava.com or call 540-898-2730 with your partner&#39\;s name.&nbsp\;
LOCATION:Cannon Ridge Disc Golf Course 6309 Cannon Ridge - Fredericksburg\, VA 22407
UID:e.9458.613
SEQUENCE:3
DTSTAMP:20260425T004622Z
URL:https://members.fabava.com/events/details/2017-disc-golf-613
END:VEVENT

END:VCALENDAR
