BEGIN:VCALENDAR
VERSION:2.0
PRODID:-//ChamberMaster//Event Calendar 2.0//EN
METHOD:PUBLISH
X-PUBLISHED-TTL:P3D
REFRESH-INTERVAL:P3D
CALSCALE:GREGORIAN
BEGIN:VEVENT
DTSTART:20171109T220000Z
DTEND:20171110T010000Z
X-MICROSOFT-CDO-ALLDAYEVENT:FALSE
SUMMARY:2017 - FABA Annual Meeting
DESCRIPTION:FABA Hard Hat and Annual Meeting in one! Come vote on next year's board and come learn from our speaker Ben Sage of MetroStudy.
X-ALT-DESC;FMTTYPE=text/html:FABA Hard Hat and Annual Meeting in one! Come vote on next year&#39\;s board and come learn from our speaker Ben Sage of MetroStudy.
LOCATION:Fredericksburg Country Club
UID:e.9458.798
SEQUENCE:3
DTSTAMP:20260424T130042Z
URL:https://members.fabava.com/events/details/2017-faba-annual-meeting-798
END:VEVENT

END:VCALENDAR
