BEGIN:VCALENDAR
VERSION:2.0
PRODID:-//ChamberMaster//Event Calendar 2.0//EN
METHOD:PUBLISH
X-PUBLISHED-TTL:P3D
REFRESH-INTERVAL:P3D
CALSCALE:GREGORIAN
BEGIN:VEVENT
DTSTART:20170330T193000Z
DTEND:20170330T210000Z
X-MICROSOFT-CDO-ALLDAYEVENT:FALSE
SUMMARY:2017 - New Member Reception
DESCRIPTION:3:30 Open Networking\n\n4:00 New Member Information\n\n5:00 Hard Hat Networking
X-ALT-DESC;FMTTYPE=text/html:3:30 Open Networking<br />\n4:00 New Member Information<br />\n5:00 Hard Hat Networking
LOCATION:Splitsville 51 Towne Centre Boulevard Fredericksburg\, VA 22407
UID:e.9458.542
SEQUENCE:3
DTSTAMP:20260425T022039Z
URL:https://members.fabava.com/events/details/2017-new-member-reception-542
END:VEVENT

END:VCALENDAR
