BEGIN:VCALENDAR
VERSION:2.0
PRODID:-//ChamberMaster//Event Calendar 2.0//EN
METHOD:PUBLISH
X-PUBLISHED-TTL:P3D
REFRESH-INTERVAL:P3D
CALSCALE:GREGORIAN
BEGIN:VEVENT
DTSTART:20170518T193000Z
DTEND:20170518T210000Z
X-MICROSOFT-CDO-ALLDAYEVENT:FALSE
SUMMARY:2017 - New Member Reception WELCOME
DESCRIPTION:Please join us for your New Member Reception at the Chatterbox.  This is a FREE reception (food and drinks) for our NEW (month of APRIL) members!  Please RSVP so we know you are ready to have all your FABA questions answered!\n\n\n\nRSVP required: Register now online or call 540-898-2730 or email admin@fabava.com
X-ALT-DESC;FMTTYPE=text/html:Please join us for your New Member Reception at the Chatterbox.&nbsp\; This is a FREE reception (food and drinks) for our NEW (month of APRIL) members!&nbsp\; Please RSVP so we know you are ready to have all your FABA questions answered!<br />\n<br />\nRSVP required: Register now online or call 540-898-2730 or email admin@fabava.com
LOCATION:Chatterbox (Upstairs at Splitsville) 51 Towne Centre Blvd Fredericksburg\, VA 22407
UID:e.9458.685
SEQUENCE:3
DTSTAMP:20260425T005722Z
URL:https://members.fabava.com/events/details/2017-new-member-reception-welcome-685
END:VEVENT

END:VCALENDAR
