BEGIN:VCALENDAR
VERSION:2.0
PRODID:-//ChamberMaster//Event Calendar 2.0//EN
METHOD:PUBLISH
X-PUBLISHED-TTL:P3D
REFRESH-INTERVAL:P3D
CALSCALE:GREGORIAN
BEGIN:VEVENT
DTSTART:20171002T230000Z
DTEND:20171003T003000Z
X-MICROSOFT-CDO-ALLDAYEVENT:FALSE
SUMMARY:2017 - Registration for English Classes
DESCRIPTION:Come to register for the English Classes that will be held from October 10 - December 12 every Monday and Tuesday at 7pm - 8:30pm.
X-ALT-DESC;FMTTYPE=text/html:Come to register for the English Classes that will be held from October 10 - December 12 every Monday and Tuesday at 7pm - 8:30pm.
LOCATION:Fredericksburg Area Builders Association 3006 Lafayette Boulevard Fredericksburg\, VA 22408
UID:e.9458.768
SEQUENCE:3
DTSTAMP:20260424T161244Z
URL:https://members.fabava.com/events/details/2017-registration-for-english-classes-768
END:VEVENT

END:VCALENDAR
