BEGIN:VCALENDAR
VERSION:2.0
PRODID:-//ChamberMaster//Event Calendar 2.0//EN
METHOD:PUBLISH
X-PUBLISHED-TTL:P3D
REFRESH-INTERVAL:P3D
CALSCALE:GREGORIAN
BEGIN:VEVENT
DTSTART:20170218T000000Z
DTEND:20170218T020000Z
X-MICROSOFT-CDO-ALLDAYEVENT:FALSE
SUMMARY:2017 - Reverse Raffle
DESCRIPTION:Support FAB FOUNDATION\, \n\nBuy your Reverse Raffle ticket today!\n\n \n\nFredericksburg Area Builders Association's FAB Foundation provides assistance to the elderly with housing  needs. \n\n \n\nA limited number of tickets were produced.\n\nContact the FABA Office at 540-898-2370 or a FABA board member to purchase your tickets today!\n\n \n\nAre you the $5000 winner?\n\nFind out on February 17th\, 7:00pm-9:00pm at the Fredericksburg Country Club. \n\nCocktails and appetizers will be provided. \nRules:\n\n	Ticket admits 2. Must have a Reverse Raffle ticket to attend.\n	Do not have to present to win\n	Business Casual\n\n\nFor headcount purposes\, please register.\n\n\n\nWe need ticket sellers! If you're willing to sell\, please come by the FABA Office and see DebiLee to get reverse raffle tickets.\n\nThank you!
X-ALT-DESC;FMTTYPE=text/html:<span style="font-weight:bold\;language:en-US\;"><span style="color:black\;"><span style="font-family:arial rounded mt bold\;"><span style="font-size:18.0pt\;">Support FAB FOUNDATION\, </span></span></span></span><br />\n<span style="font-weight:bold\;language:en-US\;"><span style="color:black\;"><span style="font-family:arial rounded mt bold\;"><span style="font-size:18.0pt\;">Buy your Reverse Raffle ticket today!</span></span></span></span><br />\n&nbsp\;<br />\n<span style="language:en-US\;"><span style="color:black\;"><span style="font-family:gill sans mt\;"><span style="font-size:14.0pt\;">Fredericksburg Area Builders Association&rsquo\;s FAB Foundation provides assistance to the elderly with housing&nbsp\; needs. </span></span></span></span><br />\n&nbsp\;<br />\n<span style="language:en-US\;"><span style="color:black\;"><span style="font-family:gill sans mt\;"><span style="font-size:14.0pt\;">A limited number of tickets were produced.<br />\nContact the FABA Office at 540-898-2370 or a FABA board member to purchase your tickets today!</span></span></span></span><br />\n&nbsp\;<br />\n<span style="font-weight:bold\;language:en-US\;"><span style="color:black\;"><span style="font-family:arial rounded mt bold\;"><span style="font-size:18.0pt\;">Are you the $5000 winner?</span></span></span></span><br />\n<span style="language:en-US\;"><span style="color:black\;"><span style="font-family:gill sans mt\;"><span style="font-size:14.0pt\;">Find out on February 17th\, 7:00pm-9:00pm at the Fredericksburg Country Club. </span></span></span></span><br />\n<span style="language:en-US\;"><span style="color:black\;"><span style="font-family:gill sans mt\;"><span style="font-size:14.0pt\;">Cocktails and appetizers will be provided. </span></span></span></span>\n<div style="language:en-US\;"><span style="color:black\;"><span style="font-family:gill sans mt\;"><span style="font-size:14.0pt\;">Rules:</span></span></span>\n<ul>\n	<li><span style="color:black\;"><span style="font-family:gill sans mt\;"><span style="font-size:14.0pt\;">Ticket admits 2. <strong>Must have a Reverse Raffle ticket to attend.</strong></span></span></span></li>\n	<li><span style="color:black\;"><span style="font-family:gill sans mt\;"><span style="font-size:14.0pt\;">Do not have to present to win</span></span></span></li>\n	<li><span style="color:black\;"><span style="font-family:gill sans mt\;"><span style="font-size:14.0pt\;">Business Casual</span></span></span></li>\n</ul>\n</div>\n<span style="language:en-US\;"><span style="color:black\;"><span style="font-family:gill sans mt\;"><span style="font-size:14.0pt\;">For headcount purposes\, please register.<br />\n<br />\nWe need ticket sellers! If you&#39\;re willing to sell\, please come by the FABA Office and see DebiLee to get reverse raffle tickets.<br />\nThank you!</span></span></span></span><br />\n&nbsp\;<br />\n<br />\n&nbsp\;<br />\n&nbsp\;
LOCATION:Fredericksburg Country Club\, 11031 Tidewater Trail\, Fredericksburg\, VA 22408
UID:e.9458.159
SEQUENCE:3
DTSTAMP:20260425T035840Z
URL:https://members.fabava.com/events/details/2017-reverse-raffle-159
END:VEVENT

END:VCALENDAR
