BEGIN:VCALENDAR
VERSION:2.0
PRODID:-//ChamberMaster//Event Calendar 2.0//EN
METHOD:PUBLISH
X-PUBLISHED-TTL:P3D
REFRESH-INTERVAL:P3D
CALSCALE:GREGORIAN
BEGIN:VEVENT
DTSTART:20180307T133000Z
DTEND:20180307T143000Z
X-MICROSOFT-CDO-ALLDAYEVENT:FALSE
SUMMARY:2018 - Basic Spanish for the Work Site - SMC Education
DESCRIPTION:Learn basic pronunciation in Spanish\, so that with access to the right terms\, you will be able to express yourselves to those around you! It will also cover the basics of greetings\, directions\, common questions\, payment and safety on the job so that you will be comfortable discussing these things with a new hire or current employee. Additionally\, lawn care\, painting\, and general construction will be discussed.
X-ALT-DESC;FMTTYPE=text/html:Learn basic pronunciation in Spanish\, so that with access to the right terms\, you will be able to express yourselves to those around you! It will also cover the basics of greetings\, directions\, common questions\, payment and safety on the job so that you will be comfortable discussing these things with a new hire or current employee. Additionally\, lawn care\, painting\, and general construction will be discussed.&nbsp\;
LOCATION:FABA Boardroom 3006 Lafayette Blvd. Fredericksburg\, VA 22408 (540) 898-2730
UID:e.9458.1442
SEQUENCE:3
DTSTAMP:20260424T054150Z
URL:https://members.fabava.com/events/details/2018-basic-spanish-for-the-work-site-smc-education-1442
END:VEVENT

END:VCALENDAR
