BEGIN:VCALENDAR
VERSION:2.0
PRODID:-//ChamberMaster//Event Calendar 2.0//EN
METHOD:PUBLISH
X-PUBLISHED-TTL:P3D
REFRESH-INTERVAL:P3D
CALSCALE:GREGORIAN
BEGIN:VEVENT
DTSTART:20180320T230000Z
DTEND:20180321T010000Z
X-MICROSOFT-CDO-ALLDAYEVENT:FALSE
SUMMARY:2018 - BOS Meeting - Stafford County
DESCRIPTION:
X-ALT-DESC;FMTTYPE=text/html:
LOCATION:
UID:e.9458.1455
SEQUENCE:3
DTSTAMP:20260424T073022Z
URL:https://members.fabava.com/events/details/2018-bos-meeting-stafford-county-1455
END:VEVENT

END:VCALENDAR
