BEGIN:VCALENDAR
VERSION:2.0
PRODID:-//ChamberMaster//Event Calendar 2.0//EN
METHOD:PUBLISH
X-PUBLISHED-TTL:P3D
REFRESH-INTERVAL:P3D
CALSCALE:GREGORIAN
BEGIN:VEVENT
DTSTART:20181017T153000Z
DTEND:20181017T173000Z
X-MICROSOFT-CDO-ALLDAYEVENT:FALSE
SUMMARY:2018 - Business Planning Workshop
DESCRIPTION:Lunch will be provided. Please RSVP by Noon on 10/16!\n\n\n\nThis workshop discusses the key steps to successful annual business planning. We review the Vision and Mission of your business\, as key components\, as well as discuss the importance of being strategic in your approach to planning. You will learn how to identify and develop winning goals and objectives for your business as you finish 2018\, and build a strategic plan for 2019. This is a great business building session for your organization.   \n\n\n\nPresented by Mike Williams : The Growth Coach
X-ALT-DESC;FMTTYPE=text/html:<span style="font-family:calibri\,sans-serif\;"><span style="font-size:12.0pt\;">Lunch will be provided. Please RSVP by Noon on 10/16!<br />\n<br />\nThis workshop discusses the key steps to successful annual business planning. We review the Vision and Mission of your business\, as key components\, as well as discuss the importance of being strategic in your approach to planning. You will learn how to identify and develop winning goals and objectives for your business as you finish 2018\, and build a strategic plan for 2019. This is a great business building session for your organization.&nbsp\; &nbsp\;</span></span><br />\n<br />\n<span style="color: rgb(29\, 33\, 41)\; font-family: Helvetica\, Arial\, sans-serif\; font-size: 12px\; white-space: pre-wrap\;">Presented by Mike Williams : The Growth Coach</span>
LOCATION:FABA Boardroom 3006 Lafayette Blvd Fredericksburg\, VA 22408
UID:e.9458.2474
SEQUENCE:3
DTSTAMP:20260423T173821Z
URL:https://members.fabava.com/events/details/2018-business-planning-workshop-2474
END:VEVENT

END:VCALENDAR
