BEGIN:VCALENDAR
VERSION:2.0
PRODID:-//ChamberMaster//Event Calendar 2.0//EN
METHOD:PUBLISH
X-PUBLISHED-TTL:P3D
REFRESH-INTERVAL:P3D
CALSCALE:GREGORIAN
BEGIN:VEVENT
DTSTART:20180803T210000Z
DTEND:20180804T010000Z
X-MICROSOFT-CDO-ALLDAYEVENT:FALSE
SUMMARY:2018 - Crab Feast
DESCRIPTION:Crab Feast is one of FABA's most popular events. Hundreds of members and guests gather to enjoy mouth-watering crabs\, succulent barbecue and all the fixins.\n\n\n\nThis is an excellent way to entertain special clients and guests or to recognize the hard work of your loyal employees. In addition to the wonderful meal\, attendees have an opportunity to socialize with their peers\, listen to some great music\, and test their skills with a game of cornhole or simply relax.\n\n\n\nThis event is open to FABA Members and anyone that wants to join\, don't be shy!\n\n\n\n-All you can eat Crabs & BBQ \n\n-Beer & Wine included\n\n-LIVE Auction - more details to come\, so keep a look out! \n\n-50/50 FAB Foundation raffle \n\n-Live Entertainment by Christian Phipps\n\n-Cornhole and of course networking! \n\n\n\n**Please do not drink and drive\, plan for alternate transportation or bring a designated driver.
X-ALT-DESC;FMTTYPE=text/html:<span style="color: rgb(29\, 33\, 41)\; font-family: Helvetica\, Arial\, sans-serif\; font-size: 14px\;">Crab Feast is one of FABA&rsquo\;s most popular events. Hundreds of members and guests gather to enjoy mouth-watering crabs\, succulent barbecue and all the fixins.</span><br />\n<br style="color: rgb(29\, 33\, 41)\; font-family: Helvetica\, Arial\, sans-serif\; font-size: 14px\;" />\n<span style="color: rgb(29\, 33\, 41)\; font-family: Helvetica\, Arial\, sans-serif\; font-size: 14px\;">This is an excellent way to entertain special clients and guests or to recognize the hard work of your loyal employees. In addition to the wonderful meal\, attendees have an opportunity to socialize with their peers\, listen to some great music\, and test their skills with a game of cornhole or simply relax.</span><br style="color: rgb(29\, 33\, 41)\; font-family: Helvetica\, Arial\, sans-serif\; font-size: 14px\;" />\n<br style="color: rgb(29\, 33\, 41)\; font-family: Helvetica\, Arial\, sans-serif\; font-size: 14px\;" />\n<span style="color: rgb(29\, 33\, 41)\; font-family: Helvetica\, Arial\, sans-serif\; font-size: 14px\;">This event is open to FABA Members and anyone that wants to join\, don&rsquo\;t be shy!</span><br />\n<br style="color: rgb(29\, 33\, 41)\; font-family: Helvetica\, Arial\, sans-serif\; font-size: 14px\;" />\n<span style="color: rgb(29\, 33\, 41)\; font-family: Helvetica\, Arial\, sans-serif\; font-size: 14px\;">-All you can eat Crabs &amp\; BBQ&nbsp\;</span><br style="color: rgb(29\, 33\, 41)\; font-family: Helvetica\, Arial\, sans-serif\; font-size: 14px\;" />\n<span style="color: rgb(29\, 33\, 41)\; font-family: Helvetica\, Arial\, sans-serif\; font-size: 14px\;">-Beer &amp\; Wine included</span><br style="color: rgb(29\, 33\, 41)\; font-family: Helvetica\, Arial\, sans-serif\; font-size: 14px\;" />\n<span style="color: rgb(29\, 33\, 41)\; font-family: Helvetica\, Arial\, sans-serif\; font-size: 14px\;">-LIVE Auction - more details to come\, so keep a look out!&nbsp\;</span><br style="color: rgb(29\, 33\, 41)\; font-family: Helvetica\, Arial\, sans-serif\; font-size: 14px\;" />\n<span style="color: rgb(29\, 33\, 41)\; font-family: Helvetica\, Arial\, sans-serif\; font-size: 14px\;">-50/50 FAB Foundation raffle&nbsp\;</span><br style="color: rgb(29\, 33\, 41)\; font-family: Helvetica\, Arial\, sans-serif\; font-size: 14px\;" />\n<span style="color: rgb(29\, 33\, 41)\; font-family: Helvetica\, Arial\, sans-serif\; font-size: 14px\;">-Live Entertainment by Christian Phipps</span><br style="color: rgb(29\, 33\, 41)\; font-family: Helvetica\, Arial\, sans-serif\; font-size: 14px\;" />\n<span style="color: rgb(29\, 33\, 41)\; font-family: Helvetica\, Arial\, sans-serif\; font-size: 14px\;">-Cornhole and of course networking!&nbsp\;</span><br />\n<br />\n<span style="color: rgb(29\, 33\, 41)\; font-family: Helvetica\, Arial\, sans-serif\; font-size: 14px\;">**Please do not drink and drive\, plan for alternate transportation or bring a designated driver.</span>
LOCATION:Rod & Gun Club 9907 Benchmark Road Fredericksburg VA 22408
UID:e.9458.1449
SEQUENCE:3
DTSTAMP:20260423T205240Z
URL:https://members.fabava.com/events/details/2018-crab-feast-1449
END:VEVENT

END:VCALENDAR
