BEGIN:VCALENDAR
VERSION:2.0
PRODID:-//ChamberMaster//Event Calendar 2.0//EN
METHOD:PUBLISH
X-PUBLISHED-TTL:P3D
REFRESH-INTERVAL:P3D
CALSCALE:GREGORIAN
BEGIN:VEVENT
DTSTART:20180919T190000Z
DTEND:20180919T230000Z
X-MICROSOFT-CDO-ALLDAYEVENT:FALSE
SUMMARY:2018 - Disc Golf
DESCRIPTION:FABA Members\, join us for this free event! \n\n\n\nDisc golf is played much like traditional golf\, but instead of a ball and clubs\, players use a flying disc\, or Frisbee! FABA joins with professional players for a day of fun! Disc\, markers\, and a sling backpack are provided in registration. Additional discs are available for purchase. There will be an awards ceremony and a light dinner after the game! \n\n\n\nMust register to participate! \n\n(Limited spots available\, so register today!)
X-ALT-DESC;FMTTYPE=text/html:FABA Members\, join us for this free event!&nbsp\;<br />\n<br />\nDisc golf is played much like traditional golf\, but instead of a ball and clubs\, players use a flying disc\, or Frisbee! FABA joins with professional players for a day of fun! Disc\, markers\, and a sling backpack are provided in registration. Additional discs are available for purchase. There will be an awards ceremony and a light dinner after the game!&nbsp\;<br />\n<br />\nMust register to participate!&nbsp\;<br />\n<em>(Limited spots available\, so register today!)</em>
LOCATION:Cannon Ridge Disc Golf Course 6309 Cannon Ridge\, Fredericksburg\, VA 22407
UID:e.9458.2503
SEQUENCE:3
DTSTAMP:20260423T205142Z
URL:https://members.fabava.com/events/details/2018-disc-golf-2503
END:VEVENT

END:VCALENDAR
