BEGIN:VCALENDAR
VERSION:2.0
PRODID:-//ChamberMaster//Event Calendar 2.0//EN
METHOD:PUBLISH
X-PUBLISHED-TTL:P3D
REFRESH-INTERVAL:P3D
CALSCALE:GREGORIAN
BEGIN:VEVENT
DTSTART:20180502T123000Z
DTEND:20180502T133000Z
X-MICROSOFT-CDO-ALLDAYEVENT:FALSE
SUMMARY:2018 - FABA Benefits & Rebates
DESCRIPTION:Come and learn all about the benefits of being a FABA member. Learn how to take advantage of those BIG discounts we keep telling you about!
X-ALT-DESC;FMTTYPE=text/html:Come and learn all about the benefits of being a FABA member. Learn how to take advantage of those BIG discounts we keep telling you about!&nbsp\;
LOCATION:FABA Boardroom 3006 Lafayette Blvd. Fredericksburg VA 22408
UID:e.9458.2462
SEQUENCE:3
DTSTAMP:20260424T030842Z
URL:https://members.fabava.com/events/details/2018-faba-benefits-rebates-2462
END:VEVENT

END:VCALENDAR
