BEGIN:VCALENDAR
VERSION:2.0
PRODID:-//ChamberMaster//Event Calendar 2.0//EN
METHOD:PUBLISH
X-PUBLISHED-TTL:P3D
REFRESH-INTERVAL:P3D
CALSCALE:GREGORIAN
BEGIN:VEVENT
DTSTART;VALUE=DATE:20180317
DTEND;VALUE=DATE:20180318
TRANSP:TRANSPARENT
X-MICROSOFT-CDO-ALLDAYEVENT:TRUE
SUMMARY:2018 - Fredericksburg Home Show
DESCRIPTION:
X-ALT-DESC;FMTTYPE=text/html:
LOCATION:Frederickburg Expo Center
UID:e.9458.1453
SEQUENCE:3
DTSTAMP:20260424T054458Z
URL:https://members.fabava.com/events/details/2018-fredericksburg-home-show-03-17-2018-1453
END:VEVENT

END:VCALENDAR
