BEGIN:VCALENDAR
VERSION:2.0
PRODID:-//ChamberMaster//Event Calendar 2.0//EN
METHOD:PUBLISH
X-PUBLISHED-TTL:P3D
REFRESH-INTERVAL:P3D
CALSCALE:GREGORIAN
BEGIN:VEVENT
DTSTART:20180521T120000Z
DTEND:20180521T200000Z
X-MICROSOFT-CDO-ALLDAYEVENT:FALSE
SUMMARY:2018 - Golf Tournament
DESCRIPTION:FABA Golf Tournament & Awards Dinner\n\nFawn Lake Golf & Country Club\n\n11305 Longstreet Dr. \n\nSpotsylvania Courthouse\, VA 22551\n\nDate:\n\nMonday\, May 21\, 2018\n\n9 AM - Check-In & Continental Breakfast\n\n10 AM - Shotgun Start\n\nLight Lunch served at the Turn\n\n3 PM - Awards Dinner\n\n\n\nFees:\n\n$550 - Foursome\n\n$150 - Individual\n\nHole Sponsorships are available for $100. \n\n(Click on Register now and select the Hole Sponsorship from additional items.)\np.p1 {margin: 0.0px 0.0px 0.0px 0.0px\; line-height: 22.0px\; font: 17.0px Arial\; color: #000000\; -webkit-text-stroke: #000000\; background-color: #ffffff}\np.p2 {margin: 0.0px 0.0px 0.0px 0.0px\; line-height: 22.0px\; font: 17.0px Arial\; color: #222222\; -webkit-text-stroke: #222222\; background-color: #ffffff}\np.p3 {margin: 0.0px 0.0px 0.0px 0.0px\; line-height: 20.0px\; font: 17.0px Arial\; color: #666666\; -webkit-text-stroke: #666666\; background-color: #ffffff\; min-height: 20.0px}\np.p4 {margin: 0.0px 0.0px 0.0px 0.0px\; line-height: 20.0px\; font: 17.0px Arial\; color: #1db100\; -webkit-text-stroke: #1db100\; background-color: #ffffff}\np.p5 {margin: 0.0px 0.0px 0.0px 0.0px\; line-height: 22.0px\; font: 17.0px Arial\; color: #666666\; -webkit-text-stroke: #666666\; background-color: #ffffff}\np.p6 {margin: 0.0px 0.0px 0.0px 0.0px\; line-height: 23.0px\; font: 20.4px Arial\; color: #26606b\; -webkit-text-stroke: #26606b\; background-color: #ffffff\; min-height: 23.0px}\np.p7 {margin: 0.0px 0.0px 0.0px 0.0px\; line-height: 22.0px\; font: 17.0px Arial\; color: #666666\; -webkit-text-stroke: #666666\; background-color: #ffffff\; min-height: 20.0px}\nspan.s1 {font-kerning: none}
X-ALT-DESC;FMTTYPE=text/html:<p><span style="color:#000000\;"><span style="font-size:14px\;">FABA Golf Tournament &amp\; Awards Dinner</span><br />\n<span style="font-size: 14px\; -webkit-text-stroke: rgb(0\, 0\, 0)\;">Fawn Lake Golf &amp\; Country Club</span><br />\n<span style="font-size: 14px\; -webkit-text-stroke: rgb(34\, 34\, 34)\;">11305 Longstreet Dr.&nbsp\;</span><br />\n<span style="font-size: 14px\; -webkit-text-stroke: rgb(34\, 34\, 34)\;">Spotsylvania</span><span style="font-size: 14px\; -webkit-text-stroke: rgb(34\, 34\, 34)\;"> Courthouse\, VA 22551</span></span></p>\n\n<p class="p3"><span style="color:#000000\;"><span style="font-size:14px\;"><span class="s1">Date:</span></span><br />\n<span style="font-size:14px\;"><span class="s1">Monday\, May 21\, 2018</span></span><br />\n<span style="font-size:14px\;"><span class="s1">9 AM - Check-In &amp\; Continental Breakfast</span></span><br />\n<span style="font-size:14px\;"><span class="s1">10 AM - Shotgun Start</span></span><br />\n<span style="font-size:14px\;"><span class="s1">Light Lunch served at the Turn</span></span><br />\n<span style="font-size:14px\;"><span class="s1">3 PM - Awards Dinner</span></span></span><br />\n<br />\n<span style="color:#000000\;"><span style="font-size:14px\;"><span class="s1">Fees:</span></span><br />\n<span style="font-size:14px\;"><span class="s1">$550 - Foursome</span></span><br />\n<span style="font-size:14px\;"><span class="s1">$150 - Individual</span></span><br />\n<span style="font-size:14px\;"><span class="s1">Hole Sponsorships are available for $100. </span></span><br />\n<span style="font-size:14px\;"><span class="s1"><i>(Click on Register now and select the Hole Sponsorship from additional items.)</i></span></span></span></p>\n<style type="text/css">p.p1 {margin: 0.0px 0.0px 0.0px 0.0px\; line-height: 22.0px\; font: 17.0px Arial\; color: #000000\; -webkit-text-stroke: #000000\; background-color: #ffffff}\np.p2 {margin: 0.0px 0.0px 0.0px 0.0px\; line-height: 22.0px\; font: 17.0px Arial\; color: #222222\; -webkit-text-stroke: #222222\; background-color: #ffffff}\np.p3 {margin: 0.0px 0.0px 0.0px 0.0px\; line-height: 20.0px\; font: 17.0px Arial\; color: #666666\; -webkit-text-stroke: #666666\; background-color: #ffffff\; min-height: 20.0px}\np.p4 {margin: 0.0px 0.0px 0.0px 0.0px\; line-height: 20.0px\; font: 17.0px Arial\; color: #1db100\; -webkit-text-stroke: #1db100\; background-color: #ffffff}\np.p5 {margin: 0.0px 0.0px 0.0px 0.0px\; line-height: 22.0px\; font: 17.0px Arial\; color: #666666\; -webkit-text-stroke: #666666\; background-color: #ffffff}\np.p6 {margin: 0.0px 0.0px 0.0px 0.0px\; line-height: 23.0px\; font: 20.4px Arial\; color: #26606b\; -webkit-text-stroke: #26606b\; background-color: #ffffff\; min-height: 23.0px}\np.p7 {margin: 0.0px 0.0px 0.0px 0.0px\; line-height: 22.0px\; font: 17.0px Arial\; color: #666666\; -webkit-text-stroke: #666666\; background-color: #ffffff\; min-height: 20.0px}\nspan.s1 {font-kerning: none}\n</style>\n
LOCATION:Fawn Lake Golf & Country Club 11305 Longstreet Dr. Spotsylvania Courthouse\, VA 22551
UID:e.9458.1448
SEQUENCE:3
DTSTAMP:20260424T030245Z
URL:https://members.fabava.com/events/details/2018-golf-tournament-1448
END:VEVENT

END:VCALENDAR
