BEGIN:VCALENDAR
VERSION:2.0
PRODID:-//ChamberMaster//Event Calendar 2.0//EN
METHOD:PUBLISH
X-PUBLISHED-TTL:P3D
REFRESH-INTERVAL:P3D
CALSCALE:GREGORIAN
BEGIN:VEVENT
DTSTART:20180404T123000Z
DTEND:20180404T133000Z
X-MICROSOFT-CDO-ALLDAYEVENT:FALSE
SUMMARY:2018 - How to Hire for Attitude Webinar (SMC)
DESCRIPTION:Join FABA SMC as they present NAHB's How to Hire for Attitude webinar. \nHiring the right people for your organization isn't just about finding people with the right skills\, it's about finding people with the right attitude. When hiring\, managers often look only at skills\, not focusing on attitude or other important indicators of a key player for your team. During this webinar replay\, International Builders' Show  (IBS) speaker\, builder and success coach Burk Moreland gives you practical techniques that will help you hire the right person for your team
X-ALT-DESC;FMTTYPE=text/html:Join FABA SMC as they present NAHB&#39\;s How to Hire for Attitude webinar.&nbsp\;\n<p style="margin: 0px 0px 18px\; padding: 0px\; box-sizing: border-box\; font-size: 14px\; color: rgb(0\, 24\, 54)\; line-height: 26px\; vertical-align: baseline\; border: 0px\; font-family: source_sans_proregular\;">Hiring the right people for your organization isn&rsquo\;t just about finding people with the right skills\, it&rsquo\;s about finding people with the right attitude. When hiring\, managers often look only at skills\, not focusing on attitude or other important indicators of a key player for your team. During this webinar replay\, International Builders&rsquo\; Show&reg\; (IBS) speaker\, builder and success coach Burk Moreland gives you practical techniques that will help you hire the right person for your team</p>\n
LOCATION:FABA Boardroom
UID:e.9458.2460
SEQUENCE:3
DTSTAMP:20260424T041742Z
URL:https://members.fabava.com/events/details/2018-how-to-hire-for-attitude-webinar-smc-2460
END:VEVENT

END:VCALENDAR
