BEGIN:VCALENDAR
VERSION:2.0
PRODID:-//ChamberMaster//Event Calendar 2.0//EN
METHOD:PUBLISH
X-PUBLISHED-TTL:P3D
REFRESH-INTERVAL:P3D
CALSCALE:GREGORIAN
BEGIN:VEVENT
DTSTART:20180914T140000Z
DTEND:20180914T150000Z
X-MICROSOFT-CDO-ALLDAYEVENT:FALSE
SUMMARY:2018 - King George County Quarterly Meeting
DESCRIPTION:Join us and hear more about all things building and legislative in King George County - local ordinances\, political happenings\, elections\, etc. - all members are welcome!
X-ALT-DESC;FMTTYPE=text/html:<span style="font-family: calibri\, sans-serif\; font-size: 14.6667px\;">Join us and hear more about all things building and legislative in </span><span style="font-family: calibri\, sans-serif\; font-size: 14.6667px\;">Ki</span>ng George C<span style="font-family: calibri\, sans-serif\; font-size: 14.6667px\;">ounty</span><span style="font-family: calibri\, sans-serif\; font-size: 14.6667px\;"> - local ordinances\, political happenings\, elections\, etc. - all members are welcome!</span>
LOCATION:King George County Community Development Office 10459 Courthouse Drive Suite 104 King George\, VA 22485
UID:e.9458.2593
SEQUENCE:3
DTSTAMP:20260423T193347Z
URL:https://members.fabava.com/events/details/2018-king-george-county-quarterly-meeting-2593
END:VEVENT

END:VCALENDAR
