BEGIN:VCALENDAR
VERSION:2.0
PRODID:-//ChamberMaster//Event Calendar 2.0//EN
METHOD:PUBLISH
X-PUBLISHED-TTL:P3D
REFRESH-INTERVAL:P3D
CALSCALE:GREGORIAN
BEGIN:VEVENT
DTSTART:20180424T153000Z
DTEND:20180424T173000Z
X-MICROSOFT-CDO-ALLDAYEVENT:FALSE
SUMMARY:2018 - Marketing Planning
DESCRIPTION:Lunch will be provided. Please RSVP by 4/23! \n\n\n\nThe topic of the session or workshop will be Marketing Planning. In this workshop we will define marketing\, it's purpose\, as well as the benefits. We will discuss how to develop a marketing plan as well as the key components of a marketing plan.\n\n\n\nThe session outline is as follows:\n\n \n\n	Marketing Planning  \n\n\n\n	Marketing Definition\n	Marketing Components\n	Available Marketing Resources\n	Marketing Plan\n	Network Marketing: Significance\, Area Resources\, Network Plan\n\n\n\n \n\nMike Williams: Profile\n\n\nMike is proven highly effective in sales\, strategic planning\, execution and resource management within various organizations. He has demonstrated expertise and positive results in organizations such as The Coca-Cola Company\, Mobil Chemical Company (Now Exxon Mobil) as well as The United States Army. Mike has over 28 years of sales\, marketing\, and business management experience within Fortune 500 companies. He is a motivated team leader\, known for building capabilities within an organization to achieve superior results.
X-ALT-DESC;FMTTYPE=text/html:<span style="color: rgb(75\, 79\, 86)\; font-family: Helvetica\, Arial\, sans-serif\; font-size: 14px\;">Lunch will be provided. Please RSVP by 4/23!&nbsp\;</span><br />\n<br />\nThe topic of the session or workshop will be <strong>Marketing Planning</strong>. In this workshop we will define marketing\, it&rsquo\;s purpose\, as well as the benefits. We will discuss how to develop a marketing plan as well as the key components of a marketing plan.<br />\n<br />\nThe session outline is as follows:<br />\n&nbsp\;\n<ol style="list-style-type:upper-roman\;">\n	<li style="text-align:justify\;">Marketing Planning&nbsp\;&nbsp\;</li>\n</ol>\n\n<ol>\n	<li style="margin-bottom:8.0pt\;margin-left:.5in\;text-align:justify\;line-height:105%\;">Marketing Definition</li>\n	<li style="margin-bottom:8.0pt\;margin-left:.5in\;text-align:justify\;line-height:105%\;">Marketing Components</li>\n	<li style="margin-bottom:8.0pt\;margin-left:.5in\;text-align:justify\;line-height:105%\;">Available Marketing Resources</li>\n	<li style="margin-bottom:8.0pt\;margin-left:.5in\;text-align:justify\;line-height:105%\;">Marketing Plan</li>\n	<li style="margin-bottom:8.0pt\;margin-left:.5in\;text-align:justify\;line-height:105%\;">Network Marketing: Significance\, Area Resources\, Network Plan</li>\n</ol>\n\n<pre style="margin-bottom: 8pt\; margin-left: 0.5in\; line-height: 105%\;">\n&nbsp\;</pre>\n\n<h3 style="margin-bottom: 8pt\; margin-left: 0.5in\; line-height: 105%\; text-align: center\;"><strong><span style="font-size:18px\;"><span style="font-family:times new roman\;">Mike Williams: Profile</span></span></strong></h3>\n\n<pre style="margin-bottom: 8pt\; margin-left: 0.5in\; line-height: 105%\;">\n<span style="font-size:16px\;"><span style="font-family:times new roman\;"><small>Mike is proven highly effective in sales\, strategic planning\, execution and resource management within various organizations. He has demonstrated expertise and positive results in organizations such as The Coca-Cola Company\, Mobil Chemical Company (Now Exxon Mobil) as well as The United States Army. Mike has over 28 years of sales\, marketing\, and business management experience within Fortune 500 companies. He is a motivated team leader\, known for building capabilities within an organization to achieve superior results.\n\n\n</small></span></span></pre>\n
LOCATION:FABA Boardroom 3006 Lafayette Blvd. Fredericksburg\, VA 22408
UID:e.9458.1443
SEQUENCE:3
DTSTAMP:20260424T041622Z
URL:https://members.fabava.com/events/details/2018-marketing-planning-1443
END:VEVENT

END:VCALENDAR
