BEGIN:VCALENDAR
VERSION:2.0
PRODID:-//ChamberMaster//Event Calendar 2.0//EN
METHOD:PUBLISH
X-PUBLISHED-TTL:P3D
REFRESH-INTERVAL:P3D
CALSCALE:GREGORIAN
BEGIN:VEVENT
DTSTART:20180803T130000Z
DTEND:20180803T140000Z
X-MICROSOFT-CDO-ALLDAYEVENT:FALSE
SUMMARY:2018 - Orange County Quarterly Meeting
DESCRIPTION:Join us and learn more about Community Development in Orange County - all FABA members are welcome!
X-ALT-DESC;FMTTYPE=text/html:<span style="font-family:calibri\,sans-serif\;"><span style="font-size:11.0pt\;">Join us and learn more about Community Development in Orange County - all FABA members are welcome!</span></span>
LOCATION:Orange County Dept of Community Development 128 W. Main Street Orange\, VA 22960
UID:e.9458.2500
SEQUENCE:3
DTSTAMP:20260423T205531Z
URL:https://members.fabava.com/events/details/2018-orange-county-quarterly-meeting-2500
END:VEVENT

END:VCALENDAR
