BEGIN:VCALENDAR
VERSION:2.0
PRODID:-//ChamberMaster//Event Calendar 2.0//EN
METHOD:PUBLISH
X-PUBLISHED-TTL:P3D
REFRESH-INTERVAL:P3D
CALSCALE:GREGORIAN
BEGIN:VEVENT
DTSTART:20181005T220000Z
DTEND:20181006T020000Z
X-MICROSOFT-CDO-ALLDAYEVENT:FALSE
SUMMARY:2018 - Parade of Homes Celebration
DESCRIPTION:Join FABA in celebrating this year's Parade of Homes award winning houses and builder recognition awards! New this year are the Specialty Awards and Builder Personnel Awards. As always we will be awarding the 2018 Pinnacle Builder as well.\n\nCome out and network\, enjoy some delicious food\, and celebrate with us!
X-ALT-DESC;FMTTYPE=text/html:<p><span style="font-size:14px\;">Join FABA in celebrating&nbsp\;this year&#39\;s Parade of Homes award winning houses and builder recognition awards! New this year are the Specialty Awards and Builder Personnel Awards. As always we will be awarding the 2018 Pinnacle Builder as well.</span></p>\n\n<p><span style="font-size:14px\;">Come out and network\, enjoy some delicious food\, and celebrate with us!&nbsp\;</span></p>\n
LOCATION:Jepson Alumni Executive Center at University of Mary Washington 1119 Hanover Street Fredericksburg\, VA 22401
UID:e.9458.2463
SEQUENCE:3
DTSTAMP:20260423T174031Z
URL:https://members.fabava.com/events/details/2018-parade-of-homes-celebration-2463
END:VEVENT

END:VCALENDAR
