BEGIN:VCALENDAR
VERSION:2.0
PRODID:-//ChamberMaster//Event Calendar 2.0//EN
METHOD:PUBLISH
X-PUBLISHED-TTL:P3D
REFRESH-INTERVAL:P3D
CALSCALE:GREGORIAN
BEGIN:VEVENT
DTSTART:20181002T140000Z
DTEND:20181002T180000Z
X-MICROSOFT-CDO-ALLDAYEVENT:FALSE
SUMMARY:2018 - Parade of Homes Judging and VIP Realtor Open House
DESCRIPTION:Parade of Homes Judging and VIP Realtor Open House\n\n\n\nJudges will meet at FABA at 8:30 for breakfast and a short judges briefing. They will head out to evaluate the homes just after 9 am and should return to FABA around 2 - 2:30 pm. Some groups may finish a little earlier\, but with traffic being unpredictable\, please plan ahead.  Light Lunch will also be provided.\n\n\n\nContact fredparade@fabava.com to volunteer today!\n\n\n\nRealtors VIP Open House\n\n\n\nRealtors are welcome to get a sneak peek tour of the 2018 Parade of Homes houses between 10-2 pm on Tuesday\, October 2\, 2018. Please note that some model homes may not be staffed until 11 am\,  Visit www.FredParade.com for addresses and more details about each house.
X-ALT-DESC;FMTTYPE=text/html:Parade of Homes Judging and VIP Realtor Open House<br />\n<br />\nJudges will meet at FABA at 8:30 for breakfast and a short judges briefing. They will head out to evaluate the homes just after 9 am and should return to FABA around 2 - 2:30 pm. Some groups may finish a little earlier\, but with traffic being unpredictable\, please plan ahead.&nbsp\; Light Lunch will also be provided.<br />\n<br />\nContact fredparade@fabava.com to volunteer today!<br />\n<br />\nRealtors VIP Open House<br />\n<br />\nRealtors are welcome to get a sneak peek tour of the 2018 Parade of Homes houses between 10-2 pm on Tuesday\, October 2\, 2018. Please note that some model homes may not be staffed until 11 am\,&nbsp\; Visit www.FredParade.com for addresses and more details about each house.<br />\n&nbsp\;
LOCATION:Multi-site
UID:e.9458.2468
SEQUENCE:3
DTSTAMP:20260423T174338Z
URL:https://members.fabava.com/events/details/2018-parade-of-homes-judging-and-vip-realtor-open-house-2468
END:VEVENT

END:VCALENDAR
