BEGIN:VCALENDAR
VERSION:2.0
PRODID:-//ChamberMaster//Event Calendar 2.0//EN
METHOD:PUBLISH
X-PUBLISHED-TTL:P3D
REFRESH-INTERVAL:P3D
CALSCALE:GREGORIAN
BEGIN:VEVENT
DTSTART:20181016T200000Z
DTEND:20181016T213000Z
X-MICROSOFT-CDO-ALLDAYEVENT:FALSE
SUMMARY:2018 - President's Town Hall
DESCRIPTION:Attention Members! You are invited to join us at the FABA office Tuesday\, October 16th 2018\,  from 4PM until 5:30PM to discuss the upcoming 2019 year with our 2019 President\, Marc Simes. Come share your ideas and feedback with Marc as he shapes his presidency.\n\n\n\nBeer/Wine and refreshments will be served!
X-ALT-DESC;FMTTYPE=text/html:<span style="color:#000000\;"><span style="font-family:tahoma\;"><span style="background-image:initial\;background-position:initial\;background-size:initial\;background-repeat:initial\;background-attachment:initial\;background-origin:initial\;background-clip:initial\;"><span style="font-size:12pt\;">Attention Members! You are invited to join us at the FABA office Tuesday\, October 16<sup>th</sup> 2018\, &nbsp\;from 4PM until 5:30PM to discuss the upcoming 2019 year with our 2019 President\, Marc Simes.&nbsp\;</span></span><span style="font-size:12.0pt\;">Come share your ideas and feedback with Marc as he shapes his presidency.</span></span><br />\n<br />\n<span style="font-family: &quot\;arial rounded mt bold&quot\;\, sans-serif\; font-size: 16px\;">Beer/Wine and refreshments will be served!</span></span>
LOCATION:FABA Boardroom 3006 Lafayette Blvd Fredericksburg\, VA 22407
UID:e.9458.2670
SEQUENCE:3
DTSTAMP:20260423T173851Z
URL:https://members.fabava.com/events/details/2018-president-s-town-hall-2670
END:VEVENT

END:VCALENDAR
