BEGIN:VCALENDAR
VERSION:2.0
PRODID:-//ChamberMaster//Event Calendar 2.0//EN
METHOD:PUBLISH
X-PUBLISHED-TTL:P3D
REFRESH-INTERVAL:P3D
CALSCALE:GREGORIAN
BEGIN:VEVENT
DTSTART:20180120T230000Z
DTEND:20180121T040000Z
X-MICROSOFT-CDO-ALLDAYEVENT:FALSE
SUMMARY:2018 - Presidents 50th Anniversary Gala
DESCRIPTION:New Year\, New President\, New Board! Join the FABA family as we celebrate 2017 and toast 2018 with an elegant dinner and awards. Then relax and watch the merriment unfold. We will be installing the new board of directors\, celebrating the year's award winners\, ringing in the 50th anniversary of the Builders Association (est 1968)\, and breaking in a great\, new venue location!  With a seated dinner\, music\, awards\, dancing\, and meeting new members\, this is sure to be a night to remember!  Don't miss out!\n\nBlack Tie Optional
X-ALT-DESC;FMTTYPE=text/html:New Year\, New President\, New Board! Join the FABA family as we celebrate 2017&nbsp\;and toast 2018&nbsp\;with an elegant dinner and awards. Then relax and watch the merriment unfold. We will be installing the new board of directors\, celebrating the year&#39\;s award winners\, ringing in the 50th anniversary of the Builders Association (est 1968)\, and breaking in a great\, new venue location!&nbsp\; With a seated dinner\, music\, awards\, dancing\, and meeting new members\, this is sure to be a night to remember!&nbsp\; Don&#39\;t miss out!<br />\n<span style="color:#008080\;"><strong>Black Tie Optional</strong></span>
LOCATION:University Center University of Mary Washington 1600 College Avenue Fredericksburg\, Virginia 22401 From Jefferson Davis Highway (Route 1): Turn into UMW Campus onto College Avenue. Go 1/2 mile to University Center on your left. From I-95: Take Rt. 3 East toward Fredericksburg. Follow Rt. 3 East approx. 1.5 miles and turn left onto William Street. Follow for approx. 1 mile and turn left onto College Avenue. Go 1/2 mile to University Center on your right. Plenty of parking in the large "staff" parking lot inside of the "Iron Gates" entrance to UMW.
UID:e.9458.698
SEQUENCE:3
DTSTAMP:20260424T100308Z
URL:https://members.fabava.com/events/details/2018-presidents-50th-anniversary-gala-698
END:VEVENT

END:VCALENDAR
