BEGIN:VCALENDAR
VERSION:2.0
PRODID:-//ChamberMaster//Event Calendar 2.0//EN
METHOD:PUBLISH
X-PUBLISHED-TTL:P3D
REFRESH-INTERVAL:P3D
CALSCALE:GREGORIAN
BEGIN:VEVENT
DTSTART;VALUE=DATE:20180118
DTEND;VALUE=DATE:20180119
TRANSP:TRANSPARENT
X-MICROSOFT-CDO-ALLDAYEVENT:TRUE
SUMMARY:2018 - Richmond-Meet House Delegates and State Senators
DESCRIPTION:Richmond Legislative Trip\n\n			Thursday\, January 18th \n\n			Meet us at 7 am at Cracker Barrel (Southpoint) Parking Lot\n\n			(5200 Southpoint Pkwy. Fredericksburg\, VA 22407-2680)\n\n			We leave for Richmond at 7 am\n\n			Join FABA as we travel to Richmond to meet our State Senators and House Delegates to discuss legislation and bills being introduced this session that affect the local housing industry. The meetings will wrap up by 11:15 am. After the meetings\, you are invited to join FABA for lunch at a local Richmond restaurant before we head back to Fredericksburg. We anticipate the group returning to the Cracker Barrel parking lot no later 2:30 pm. If you will be driving separately and meeting us in Richmond\, please plan to meet at 8 am outside of the Main Entrance of the Virginia State Capitol Building in Richmond.\n\n			Please call FABA at 540-898-2730 by Wednesday\, Jan. 17th to let us know whether to expect you at Cracker Barrel or if you will drive separately directly to Richmond. \n\n			Click the link below for more information on the bills to watch\n			\n		\n	\n\nhttp://www.fabava.com/bills-to-watch/
X-ALT-DESC;FMTTYPE=text/html:<table align="left" border="0" cellpadding="0" cellspacing="0" class="mcnTextContentContainer" style="border-collapse: collapse\; text-size-adjust: 100%\; max-width: 100%\; min-width: 100%\;" width="100%">\n	<tbody>\n		<tr>\n			<td class="mcnTextContent" style="text-size-adjust: 100%\; word-break: break-word\; color: rgb(32\, 32\, 32)\; font-family: Helvetica\; font-size: 16px\; line-height: 24px\; padding: 0px 18px 9px\;" valign="top">\n			<p style="margin: 10px 0px\; padding: 0px\; text-size-adjust: 100%\; line-height: 24px\;"><strong><span style="color: rgb(0\, 0\, 128)\;"><span style="font-size: 24px\;"><span style="font-family: &quot\;trebuchet ms&quot\;\, &quot\;lucida grande&quot\;\, &quot\;lucida sans unicode&quot\;\, &quot\;lucida sans&quot\;\, tahoma\, sans-serif\;">Richmond Legislative Trip</span></span></span></strong><br />\n			<strong>Thursday\, January 18th&nbsp\;</strong><br />\n			<strong>Meet us at 7 am at Cracker Barrel (Southpoint) Parking Lot<br />\n			(</strong><strong>5200 Southpoint Pkwy. Fredericksburg\, VA 22407-2680)</strong><br />\n			<strong>We leave for Richmond&nbsp\;at 7 am</strong><br />\n			Join FABA as we travel to Richmond to meet our State Senators and House Delegates to discuss legislation and bills being introduced this session&nbsp\;that&nbsp\;affect&nbsp\;the local housing industry. The meetings will wrap up by 11:15 am. After the meetings\, you are invited to join FABA for lunch at a local Richmond restaurant before we head back to Fredericksburg. We anticipate the group returning to the Cracker Barrel parking lot no later 2:30 pm. If you will be driving separately and meeting us in Richmond\, please plan to meet at 8 am outside of the Main Entrance of the Virginia State Capitol Building in Richmond.<br />\n			<strong>Please call FABA at&nbsp\;540-898-2730 by Wednesday\, Jan. 17th to let us know whether to expect you at Cracker Barrel or if you will drive&nbsp\;separately directly to Richmond.&nbsp\;</strong><br />\n			Click the link below for more information on the bills to watch</p>\n			</td>\n		</tr>\n	</tbody>\n</table>\nhttp://www.fabava.com/bills-to-watch/
LOCATION:
UID:e.9458.1202
SEQUENCE:3
DTSTAMP:20260424T085816Z
URL:https://members.fabava.com/events/details/2018-richmond-meet-house-delegates-and-state-senators-1202
END:VEVENT

END:VCALENDAR
