BEGIN:VCALENDAR
VERSION:2.0
PRODID:-//ChamberMaster//Event Calendar 2.0//EN
METHOD:PUBLISH
X-PUBLISHED-TTL:P3D
REFRESH-INTERVAL:P3D
CALSCALE:GREGORIAN
BEGIN:VEVENT
DTSTART:20180207T133000Z
DTEND:20180207T143000Z
X-MICROSOFT-CDO-ALLDAYEVENT:FALSE
SUMMARY:2018 - The Construction Loan Process - SMC Education
DESCRIPTION:Arm yourself with the knowledge to answer your clients toughest questions about funding their build! We'll cover everything you need to know about the construction loan process. Learn the role of Mechanics' Lien Agents\, Virginia's "race notice" for liens\, the Mechanics' Lien Process\, and special considerations for purchasers when obtaining construction financing.
X-ALT-DESC;FMTTYPE=text/html:<span style="color:#1F497D\;">Arm yourself with the knowledge to answer your clients toughest questions about funding their build! We&rsquo\;ll cover everything you need to know about the </span><span style="color:#1F497D\;">construction&nbsp\;</span><span style="color:#1F497D\;">loan</span><span style="color:#1F497D\;"> process. Learn the role of Mechanics&#39\; Lien Agents\, Virginia&rsquo\;s &ldquo\;race notice&rdquo\; for liens\, the Mechanics&#39\; Lien Process\, and special considerations for purchasers when obtaining construction financing.</span>
LOCATION:FABA Boardroom 3006 Lafayette Blvd. Fredericksburg\, VA 22408 (540) 898-2730
UID:e.9458.1215
SEQUENCE:3
DTSTAMP:20260424T071615Z
URL:https://members.fabava.com/events/details/2018-the-construction-loan-process-smc-education-1215
END:VEVENT

END:VCALENDAR
