BEGIN:VCALENDAR
VERSION:2.0
PRODID:-//ChamberMaster//Event Calendar 2.0//EN
METHOD:PUBLISH
X-PUBLISHED-TTL:P3D
REFRESH-INTERVAL:P3D
CALSCALE:GREGORIAN
BEGIN:VEVENT
DTSTART:20181018T190000Z
DTEND:20181018T230000Z
X-MICROSOFT-CDO-ALLDAYEVENT:FALSE
SUMMARY:2018 - Twilight Golf
DESCRIPTION:Enjoy an evening of golf and networking.  Only 9 holes with food and drinks available at the end!  If you're a busy person\, this event is perfect for you!\n\n\n\nCheck-in 2:30pm\n\nGame Start: 3pm sharp \n\n\n\nFoursomes: $200 \n\nIndividual: $50 \n\nHole Sponsorship: $50
X-ALT-DESC;FMTTYPE=text/html:Enjoy an evening of golf and networking.&nbsp\; Only 9 holes with food and drinks available at the end!&nbsp\; If you&#39\;re a busy person\, this event is perfect for you!<br />\n<br />\nCheck-in 2:30pm<br />\nGame Start: 3pm sharp&nbsp\;<br />\n<br />\nFoursomes: $200&nbsp\;<br />\nIndividual: $50&nbsp\;<br />\nHole Sponsorship: $50&nbsp\;<br />\n<br />\n&nbsp\;
LOCATION:Fredericksburg Country Club
UID:e.9458.2672
SEQUENCE:3
DTSTAMP:20260423T161844Z
URL:https://members.fabava.com/events/details/2018-twilight-golf-2672
END:VEVENT

END:VCALENDAR
