BEGIN:VCALENDAR
VERSION:2.0
PRODID:-//ChamberMaster//Event Calendar 2.0//EN
METHOD:PUBLISH
X-PUBLISHED-TTL:P3D
REFRESH-INTERVAL:P3D
CALSCALE:GREGORIAN
BEGIN:VEVENT
DTSTART:20190618T190000Z
DTEND:20190618T230000Z
X-MICROSOFT-CDO-ALLDAYEVENT:FALSE
SUMMARY:2019 - Disc Golf
DESCRIPTION:FABA Members - join us for this free event! \n\n\n\nDisc golf is played much like traditional golf\, but instead of a ball and clubs\, players use a flying disc\, or Frisbee! FABA joins with professional players for a day of fun! Disc and a sling backpack are provided in registration. Additional discs are available for purchase. There will be an awards ceremony and a light dinner after the game! \n\n\n\nMust register to participate! \n\n(Limited spots available\, so register today!)\n\n\n\nDISC Hole Sponsorship - $50\n\n \n\nHole sponsorships for disc golf to fund FABA PAC   our local legislative advocacy  to support pro building initiatives.\n\n\n\nThis is the ONLY FABA sponsorship opportunity open to the entire building industry (not just FABA members):\n\n\n\n$50 Hole Sponsorships Include:\n\n	Visible signage on the hole\n	Join us to play and network with FABA members while enjoying a fun game of Disc Golf (all players are invited to stay for the light dinner/networking at 6:30).\n	Recognition in the FABA Weekly Blueprint email blast\n	Show support of the building industry with this contribution to FACT-PAC\n\n \n\nAdditional Sponsorship Opportunities still available:\n\n\n	Dinner Sponsor - $250\n	Registration Tent Sponsor - $250\n\n \n\nTo purchase your hole sponsorship CLICK HERE (or use the green "REGISTER " button on the web page to select your sponsorship level AND/OR sign up to play)
X-ALT-DESC;FMTTYPE=text/html:FABA Members - join us for this free event!&nbsp\;<br />\n<br />\nDisc golf is played much like traditional golf\, but instead of a ball and clubs\, players use a flying disc\, or Frisbee! FABA joins with professional players for a day of fun! Disc and a sling backpack are provided in registration. Additional discs are available for purchase. There will be an awards ceremony and a light dinner after the game!&nbsp\;<br />\n<br />\nMust register to participate!&nbsp\;<br />\n<em>(Limited spots available\, so register today!)</em><br />\n<br />\n<strong><span style="color:#FF0000\;">DISC Hole Sponsorship - $50</span></strong><br />\n&nbsp\;<br />\nHole sponsorships for disc golf to fund FABA PAC&nbsp\;&ndash\; our local legislative advocacy &nbsp\;to support pro building initiatives.<br />\n<br />\n<strong>This is the <span style="color:#FF0000\;">ONLY </span>FABA sponsorship opportunity <span style="color:#FF0000\;">open to the entire building industry</span> (not just FABA members):</strong><br />\n<br />\n<strong>$50 Hole Sponsorships Include:</strong>\n<ul>\n	<li>Visible signage on the hole</li>\n	<li>Join us to play and network with FABA members while enjoying a fun game of Disc Golf (all players are invited to stay for the light dinner/networking at 6:30).</li>\n	<li>Recognition in the FABA Weekly Blueprint email blast</li>\n	<li>Show support of the building industry with this contribution to FACT-PAC</li>\n</ul>\n&nbsp\;<br />\n<strong>Additional Sponsorship Opportunities</strong> still available:\n\n<ul>\n	<li>Dinner Sponsor - $250</li>\n	<li>Registration Tent Sponsor - $250</li>\n</ul>\n&nbsp\;<br />\nTo purchase your hole sponsorship <a href="https://fabava.memberzone.com/eventregistration/register/2804"><strong><span style="color:#FF0000\;">CLICK HERE</span></strong></a> (or use the green &ldquo\;REGISTER &ldquo\; button on the web page to select your sponsorship level AND/OR sign up to play)<br />\n<br />\n&nbsp\;
LOCATION:Cannon Ridge Disc Golf Course 6309 Cannon Ridge\, Fredericksburg\, VA 22407 In Spotsylvania County off Rte 3
UID:e.9458.2804
SEQUENCE:3
DTSTAMP:20260424T114757Z
URL:https://members.fabava.com/events/details/2019-disc-golf-2804
END:VEVENT

END:VCALENDAR
