BEGIN:VCALENDAR
VERSION:2.0
PRODID:-//ChamberMaster//Event Calendar 2.0//EN
METHOD:PUBLISH
X-PUBLISHED-TTL:P3D
REFRESH-INTERVAL:P3D
CALSCALE:GREGORIAN
BEGIN:VEVENT
DTSTART:20191010T150000Z
DTEND:20191010T223000Z
X-MICROSOFT-CDO-ALLDAYEVENT:FALSE
SUMMARY:2019 - Fall Golf Invitational
DESCRIPTION:Thursday\, October 10\, 2019\n\n\n\nFABA Inaugural Fall Golf Invitational & Awards Dinner\n\nPendleton Golf Course\n\n6383 Declaration Drive\n\nRuther Glen\, VA 22546\n\nDate:\n\nThursday\, October 10\, 2019\n\n11:00 AM - Check-In \n\n12:30 PM - Shotgun Start\n\n5:00 PM Dinner & Awards at the tournament conclusion\n\n\n\nFees:\n\nFoursome: $550\n\n\n\nSponsorships Available
X-ALT-DESC;FMTTYPE=text/html:<p><span style="font-size:14px\;"><strong>Thursday\, October 10\, 2019</strong></span><br />\n<br />\n<strong><span style="color: rgb(0\, 0\, 0)\; font-size: 14px\;">FABA Inaugural F</span></strong><strong><span style="color: rgb(0\, 0\, 0)\; font-size: 14px\;">all Golf Invitational&nbsp\;&amp\; Awards Dinner</span></strong></p>\n\n<p><span style="color: rgb(0\, 0\, 0)\; font-size: 14px\; -webkit-text-stroke-color: rgb(0\, 0\, 0)\;">Pendleton&nbsp\;</span><font color="#000000"><span style="font-size: 14px\; -webkit-text-stroke-color: rgb(0\, 0\, 0)\;">Golf Course</span></font><br />\n<span style="color: rgb(34\, 34\, 34)\; font-family: Roboto\, arial\, sans-serif\; font-size: 14px\;">6383 Declaration Drive<br />\nRuther Glen\, VA 22546</span></p>\n\n<p class="p3" style="margin: 0px\; font-variant-numeric: normal\; font-variant-east-asian: normal\; font-stretch: normal\; line-height: normal\; font-family: Arial\; -webkit-text-stroke-color: rgb(102\, 102\, 102)\; min-height: 20px\;"><span style="color: rgb(0\, 0\, 0)\; font-size: 17px\;"><span style="font-size: 14px\;"><span class="s1" style="font-kerning: none\;">Date:</span></span><br />\n<span style="font-size: 14px\;"><span class="s1" style="font-kerning: none\;">Thursday\, October 10\, 2019</span></span></span><br />\n11:00 AM - Check-In&nbsp\;<br />\n12:30&nbsp\;PM - Shotgun Start<br />\n5:00 PM Dinner &amp\; Awards at the tournament conclusion<br />\n<br />\n<span style="color: rgb(0\, 0\, 0)\; font-size: 17px\;"><strong><span style="font-size: 14px\;"><span class="s1" style="font-kerning: none\;">Fees:</span></span></strong><br />\n<span style="font-size: 14px\;"><span class="s1" style="font-kerning: none\;">Foursome: $550<br />\n<br />\n<strong>Sponsorships Available</strong></span></span></span></p>\n
LOCATION:Pendleton Golf Course 6383 Declaration Drive Ruther Glen\, VA 22546
UID:e.9458.2874
SEQUENCE:3
DTSTAMP:20260422T113601Z
URL:https://members.fabava.com/events/details/2019-fall-golf-invitational-2874
END:VEVENT

END:VCALENDAR
