BEGIN:VCALENDAR
VERSION:2.0
PRODID:-//ChamberMaster//Event Calendar 2.0//EN
METHOD:PUBLISH
X-PUBLISHED-TTL:P3D
REFRESH-INTERVAL:P3D
CALSCALE:GREGORIAN
BEGIN:VEVENT
DTSTART:20191003T210000Z
DTEND:20191004T010000Z
X-MICROSOFT-CDO-ALLDAYEVENT:FALSE
SUMMARY:2019 - Parade of Homes Celebration
DESCRIPTION:2019 Parade of Homes Celebration \n\nOctober 3rd\, 2019\, 5-9PM
X-ALT-DESC;FMTTYPE=text/html:2019 Parade of Homes Celebration&nbsp\;<br />\nOctober 3rd\, 2019\, 5-9PM
LOCATION:Stevenson Ridge 6901 Meeting Street Spotsylvania\, VA 22553
UID:e.9458.2678
SEQUENCE:3
DTSTAMP:20260422T112257Z
URL:https://members.fabava.com/events/details/2019-parade-of-homes-celebration-2678
END:VEVENT

END:VCALENDAR
