BEGIN:VCALENDAR
VERSION:2.0
PRODID:-//ChamberMaster//Event Calendar 2.0//EN
METHOD:PUBLISH
X-PUBLISHED-TTL:P3D
REFRESH-INTERVAL:P3D
CALSCALE:GREGORIAN
BEGIN:VEVENT
DTSTART:20190119T230000Z
DTEND:20190120T040000Z
X-MICROSOFT-CDO-ALLDAYEVENT:FALSE
SUMMARY:2019 - Presidents Gala
DESCRIPTION:FABA's Annual President's Gala! \n\nNew Year\, New President\, New Board! Join the FABA family as we celebrate 2018 and toast 2019 with an elegant dinner and awards. Then relax and watch the merriment unfold. We will be installing the new board of directors\, celebrating the year's award winners\, and breaking in a great\, new venue location! With a seated dinner\, music\, awards\, dancing\, and meeting new members\, this is sure to be a night to remember! Don't miss out!\n\n\n\nRoaring 20s / Great Gatsby Theme\n\nCome as a flapper\, come as you are\n\nCome as a dapper gent or a silent screen star.\n\nWhisper the password\, enter the speakeasy.\n\n\n\nOur glamourous soiree commences at 6pm\n\nWith your favorite tunes\, dinner and spirits.\n\nThe Gala is located at The A. Smith Bowman Distillery\n\n \n\nEra Attire or Elegant Dress
X-ALT-DESC;FMTTYPE=text/html:<span style="color: rgb(29\, 33\, 41)\; font-family: Helvetica\, Arial\, sans-serif\; font-size: 14px\;">FABA&#39\;s Annual President&#39\;s Gala!&nbsp\;</span><br style="color: rgb(29\, 33\, 41)\; font-family: Helvetica\, Arial\, sans-serif\; font-size: 14px\;" />\n<span style="color: rgb(29\, 33\, 41)\; font-family: Helvetica\, Arial\, sans-serif\; font-size: 14px\;">New Year\, New President\, New Board! Join the FABA family as we celebrate 2018 and toast 2019 with an elegant dinner and awards. Then relax and watch the merriment unfold. We will be installing the new board of directors\, celebrating the year&#39\;s award winners\, and breaking in a great\, new venue location! With a seated dinner\, music\, awards\, dancing\, and meeting new members\, this is sure to be a night to remember! Don&#39\;t miss out!</span><br />\n<br />\n<strong><span style="font-size:16.0pt\;">Roaring 20s / Great Gatsby Theme</span></strong><br />\nCome as a flapper\, come as you are<br />\nCome as a dapper gent or a silent screen star.<br />\nWhisper the password\, enter the speakeasy.<br />\n<br />\nOur glamourous soiree commences at 6pm<br />\nWith your favorite tunes\, dinner and spirits.<br />\nThe Gala is located at The A. Smith Bowman Distillery<br />\n&nbsp\;<br />\n<em>Era Attire or Elegant Dress</em>
LOCATION:A. Smith Bowman Distillery 1 Bowman Drive Fredericksburg\, VA 22408
UID:e.9458.2507
SEQUENCE:3
DTSTAMP:20260423T094013Z
URL:https://members.fabava.com/events/details/2019-presidents-gala-2507
END:VEVENT

END:VCALENDAR
