BEGIN:VCALENDAR
VERSION:2.0
PRODID:-//ChamberMaster//Event Calendar 2.0//EN
METHOD:PUBLISH
X-PUBLISHED-TTL:P3D
REFRESH-INTERVAL:P3D
CALSCALE:GREGORIAN
BEGIN:VEVENT
DTSTART:20200810T200000Z
DTEND:20200811T000000Z
X-MICROSOFT-CDO-ALLDAYEVENT:FALSE
SUMMARY:2020 Developers Council Twilight Golf Outing
DESCRIPTION:Join us for the FABA Developers Council Twilight Golf Outing at the Fawn Lake Golf Club.\n\n4:00PM Tee off time\n\n$75/person - this includes 9 holes of golf\, cart\, box meal and two beverage tickets (choice of beer\, soda or gatorade)\n\nLimited number of spots available so make sure to register\n\n\n\nSponsorships also available for $50
X-ALT-DESC;FMTTYPE=text/html:<span style="font-family:tahoma\;"><span style="font-size:20px\;">Join us for the&nbsp\;<span style="color:black\;">FABA Developers Council Twilight Golf Outing at the Fawn Lake Golf Club.<br />\n4:00PM Tee off time<br />\n$75/person - this includes 9 holes of golf\, cart\, box meal and two beverage tickets (choice of beer\, soda or gatorade)<br />\nLimited number of spots available so make sure to register<br />\n<br />\nSponsorships also available for $50</span></span></span><br />\n&nbsp\;
LOCATION:Fawn Lake Golf Club 11410 Longstreet Dr\, Spotsylvania\, VA 22551
UID:e.9458.3128
SEQUENCE:3
DTSTAMP:20260421T162255Z
URL:https://members.fabava.com/events/details/2020-developers-council-twilight-golf-outing-3128
END:VEVENT

END:VCALENDAR
