BEGIN:VCALENDAR
VERSION:2.0
PRODID:-//ChamberMaster//Event Calendar 2.0//EN
METHOD:PUBLISH
X-PUBLISHED-TTL:P3D
REFRESH-INTERVAL:P3D
CALSCALE:GREGORIAN
BEGIN:VEVENT
DTSTART:20210715T123000Z
DTEND:20210715T140000Z
X-MICROSOFT-CDO-ALLDAYEVENT:FALSE
SUMMARY:2021 - Builder summit - DEEP DIVE INTO THE BUILDING INDUSTRY DISCUSSION
DESCRIPTION:Join FAAR and FABA for a look at how lumber prices\, labor shortages\, and land challenges are impacting the new home construction market. Gain valuable insight into how to advise your clients who are considering building a new home. Breakfast included \n\n\n\nPanelists: Jennifer Sloat\, K. Hovnanian Homes\n\nGene Brown\, Atlantic Builders\n\nDan Sandoval\, Republic Builders\n\n\n\nModerated by: Carrie Danko\, 2021 FAAR President\n\nScott Hine\, 2021 FABA President
X-ALT-DESC;FMTTYPE=text/html:Join FAAR and FABA for a look at how lumber prices\, labor shortages\, and land challenges are impacting the new home construction market. Gain valuable insight into how to advise your clients who are considering building a new home. Breakfast included&nbsp\;<br />\n<br />\nPanelists: Jennifer Sloat\, K. Hovnanian Homes<br />\nGene Brown\, Atlantic Builders<br />\nDan Sandoval\, Republic Builders<br />\n<br />\nModerated by: Carrie Danko\, 2021 FAAR President<br />\nScott Hine\, 2021 FABA President
LOCATION:CLARION HOTEL & SUITES CONVENTION CENTER (formerly the Hospitality House) 2801 Plank Road Fredericksburg VA
UID:e.9458.3314
SEQUENCE:3
DTSTAMP:20260420T211235Z
URL:https://members.fabava.com/events/details/2021-builder-summit-deep-dive-into-the-building-industry-discussion-3314
END:VEVENT

END:VCALENDAR
