BEGIN:VCALENDAR
VERSION:2.0
PRODID:-//ChamberMaster//Event Calendar 2.0//EN
METHOD:PUBLISH
X-PUBLISHED-TTL:P3D
REFRESH-INTERVAL:P3D
CALSCALE:GREGORIAN
BEGIN:VEVENT
DTSTART:20211021T210000Z
DTEND:20211021T230000Z
X-MICROSOFT-CDO-ALLDAYEVENT:FALSE
SUMMARY:2021 Hard Hat Networking
DESCRIPTION:Join us for some networking and fun! This month's hard hat is sponsored by Atlantic Builders. \n\nWe are excited to be celebrating membership drive month with our football themed drive. \n\nFeel free to invite guests who might want to learn more about FABA. Don't forget about triple spike points during membership drive months.
X-ALT-DESC;FMTTYPE=text/html:Join us for some networking and fun! This month&#39\;s hard hat is sponsored by Atlantic Builders.&nbsp\;<br />\nWe are excited to be celebrating membership drive month with our football themed drive.&nbsp\;<br />\nFeel free to invite guests who might want to learn more about FABA. Don&#39\;t forget about triple spike points during membership drive months.
LOCATION:Strangeways Brewing
UID:e.9458.3220
SEQUENCE:3
DTSTAMP:20260420T155515Z
URL:https://members.fabava.com/events/details/2021-hard-hat-networking-10-21-2021-3220
END:VEVENT

END:VCALENDAR
