BEGIN:VCALENDAR
VERSION:2.0
PRODID:-//ChamberMaster//Event Calendar 2.0//EN
METHOD:PUBLISH
X-PUBLISHED-TTL:P3D
REFRESH-INTERVAL:P3D
CALSCALE:GREGORIAN
BEGIN:VEVENT
DTSTART:20220329T160000Z
DTEND:20220329T173000Z
X-MICROSOFT-CDO-ALLDAYEVENT:FALSE
SUMMARY:2022 County Spotlight - King George
DESCRIPTION:Join FABA and potential members for our new County Spotlight series. This month we are highlighting King George. Thank you to our sponsor Holt for Homes \n\nJoin us for lunch at King's Pizza and hear from King George's Chris Miller\, the new County Administrator. Take this opportunity to connect with our members and future members in King George. \n\n\n\nTickets are only $10 and includes lunch
X-ALT-DESC;FMTTYPE=text/html:Join FABA and potential members for our new County Spotlight series. This month we are highlighting King George. Thank you to our sponsor Holt for Homes&nbsp\;<br />\nJoin us for lunch at King&#39\;s Pizza and hear from King George&#39\;s&nbsp\;Chris Miller\, the new County Administrator. Take this opportunity to connect with our members and future members in King George.&nbsp\;<br />\n<br />\nTickets are only $10 and includes lunch&nbsp\;
LOCATION:King's Pizza 7983 Kings Hwy\, King George\, VA 22485
UID:e.9458.3628
SEQUENCE:3
DTSTAMP:20260420T030253Z
URL:https://members.fabava.com/events/details/2022-county-spotlight-king-george-3628
END:VEVENT

END:VCALENDAR
