BEGIN:VCALENDAR
VERSION:2.0
PRODID:-//ChamberMaster//Event Calendar 2.0//EN
METHOD:PUBLISH
X-PUBLISHED-TTL:P3D
REFRESH-INTERVAL:P3D
CALSCALE:GREGORIAN
BEGIN:VEVENT
DTSTART:20220921T200000Z
DTEND:20220921T220000Z
X-MICROSOFT-CDO-ALLDAYEVENT:FALSE
SUMMARY:2022 - Fall Membership Drive Kick Off Party
DESCRIPTION:Come by the FABA office as we get excited about the October membership drive!\n\n\n\nFollowing the board meeting\, we will have snacks\, drinks and all the details about prizes\, and all the spike points available!
X-ALT-DESC;FMTTYPE=text/html:Come by the FABA office as we get excited about the October membership drive!<br />\n<br />\nFollowing the board meeting\, we will have snacks\, drinks and all the details about prizes\, and all the spike points available!&nbsp\;
LOCATION:FABA Office 3006 Lafayette Blvd. Fredericksburg\, VA 22408
UID:e.9458.3659
SEQUENCE:3
DTSTAMP:20260419T142120Z
URL:https://members.fabava.com/events/details/2022-fall-membership-drive-kick-off-party-3659
END:VEVENT

END:VCALENDAR
