BEGIN:VCALENDAR
VERSION:2.0
PRODID:-//ChamberMaster//Event Calendar 2.0//EN
METHOD:PUBLISH
X-PUBLISHED-TTL:P3D
REFRESH-INTERVAL:P3D
CALSCALE:GREGORIAN
BEGIN:VEVENT
DTSTART:20220915T201500Z
DTEND:20220915T210000Z
X-MICROSOFT-CDO-ALLDAYEVENT:FALSE
SUMMARY:2022 - New Member welcome/orientation - September
DESCRIPTION:What a year this has been so far at FABA! This year we are so excited to welcome many new members to the association. We want to take a moment to welcome you properly. \n\n \n\nWe invite you to join us at Billiken's Smokehouse sponsored by Childress Agency for a brief welcome and orientation to FABA. Never been to a FABA orientation? Never been to a Hard Hat? This is a great time to stop by and say hello! \n\n \n\nStick around for the Hard Hat from 5:00-7:00. Feel free to bring colleagues and other new members for this free event. Please register below so we know how many to expect. We hope to see you then!
X-ALT-DESC;FMTTYPE=text/html:<p style="font-size: 14px\; line-height: 130%\;"><span style="font-size: 20px\; line-height: 26px\; color: #000000\;">What a year this has been so far at FABA! This year we are so excited to welcome&nbsp\;many new members to the association. We want to take a moment to welcome you properly. </span></p>\n\n<p style="font-size: 14px\; line-height: 130%\;">&nbsp\;</p>\n\n<p style="line-height: 130%\;"><span style="font-size: 20px\; line-height: 26px\; color: rgb(0\, 0\, 0)\;">We invite you to join us at&nbsp\;</span><span style="font-size:18px\;"><span style="color: rgb(32\, 33\, 36)\; font-family: &quot\;Google Sans&quot\;\, Roboto\, arial\, sans-serif\;">Billiken&#39\;s Smokehouse sponsored by Childress Agency</span></span><span style="font-size: 20px\; line-height: 26px\; color: rgb(0\, 0\, 0)\;">&nbsp\;for a brief welcome and orientation to FABA. Never been to a FABA orientation? Never been to a Hard Hat? This is a great time to stop by and say hello!&nbsp\;</span></p>\n\n<p style="font-size: 14px\; line-height: 130%\;">&nbsp\;</p>\n\n<p style="font-size: 14px\; line-height: 130%\;"><span style="font-size: 20px\; line-height: 26px\; color: #000000\;">Stick around for the Hard Hat from 5:00-7:00.&nbsp\;</span><span style="font-size: 20px\; line-height: 26px\; color: #000000\;">Feel free to bring colleagues and other new members for this free event. Please register below so we know how many to expect. We hope to see you then!</span></p>\n
LOCATION:Billiken's Smokehouse 623 Caroline St\, Fredericksburg\, VA 22401
UID:e.9458.3656
SEQUENCE:3
DTSTAMP:20260419T141743Z
URL:https://members.fabava.com/events/details/2022-new-member-welcome-orientation-september-3656
END:VEVENT

END:VCALENDAR
