BEGIN:VCALENDAR
VERSION:2.0
PRODID:-//ChamberMaster//Event Calendar 2.0//EN
METHOD:PUBLISH
X-PUBLISHED-TTL:P3D
REFRESH-INTERVAL:P3D
CALSCALE:GREGORIAN
BEGIN:VEVENT
DTSTART:20220509T130000Z
DTEND:20220509T200000Z
X-MICROSOFT-CDO-ALLDAYEVENT:FALSE
SUMMARY:2022 Spring Golf Tournament
DESCRIPTION:SIGN UP FOR YOUR HOLE SPONSORSHIPS TODAY!\n\n\n\nMONDAY\, May 9th\, 2022\n\n\n\nFABA Spring Golf Tournament & Awards Dinner\n\nFawn Lake Golf & Country Club\n\n11305 Longstreet Dr. \n\nSpotsylvania Courthouse\, VA 22551\n\nDate:\n\nMonday\, May 9\, 2022\n\n8 AM - Check-In & Continental Breakfast at Fawn Lake County Club\n\n9 AM - Shotgun Start\n\nReception & Awards at the Fawn Lake Country Club at tournament conclusion\n\n\n\nFoursome/Greens Fees:\n\nFoursome: $550\n\n\n\nHole Sponsorships: \n\nHole Sponsorship: $175 \n\nIncludes: Signage at hole & the option for your company to set up a table/booth at the tee box of the hole and two lunches/dinners. \n\n\n\nDinner Only:\n\nDinner Tickets for additional attendees and volunteers: $35\n\n\n\nInterested in volunteering? Click here to get signed up!
X-ALT-DESC;FMTTYPE=text/html:<p><span style="font-size:14px\;"><strong>SIGN UP FOR YOUR HOLE SPONSORSHIPS TODAY!<br />\n<br />\nMONDAY\, May 9th\, 2022</strong></span><br />\n<br />\n<strong><span style="color: rgb(0\, 0\, 0)\; font-size: 14px\;">FABA Spring Golf Tournament &amp\; Awards Dinner</span></strong><br />\n<span style="color: rgb(0\, 0\, 0)\; font-size: 14px\; -webkit-text-stroke: rgb(0\, 0\, 0)\;">Fawn Lake Golf &amp\; Country Club</span><br />\n<span style="color: rgb(0\, 0\, 0)\; font-size: 14px\; -webkit-text-stroke: rgb(34\, 34\, 34)\;">11305 Longstreet Dr.&nbsp\;</span><br />\n<span style="color: rgb(0\, 0\, 0)\; font-size: 14px\; -webkit-text-stroke: rgb(34\, 34\, 34)\;">Spotsylvania</span><span style="color: rgb(0\, 0\, 0)\; font-size: 14px\; -webkit-text-stroke: rgb(34\, 34\, 34)\;">&nbsp\;Courthouse\, VA 22551</span></p>\n\n<p class="p3" style="margin: 0px\; font-variant-numeric: normal\; font-variant-east-asian: normal\; font-stretch: normal\; line-height: normal\; font-family: Arial\; -webkit-text-stroke-color: rgb(102\, 102\, 102)\; min-height: 20px\;"><strong><span style="color: rgb(0\, 0\, 0)\; font-size: 17px\;"><span style="font-size: 14px\;"><span class="s1" style="font-kerning: none\;">Date:</span></span><br />\n<span style="font-size: 14px\;"><span class="s1" style="font-kerning: none\;">Monday\, May 9\, 2022</span></span></span></strong><br />\n8 AM - Check-In &amp\; Continental Breakfast at Fawn Lake County Club<br />\n9 AM - Shotgun Start<br />\nReception &amp\; Awards at the Fawn Lake Country Club at tournament conclusion<br />\n<br />\n<span style="color: rgb(0\, 0\, 0)\; font-size: 17px\;"><strong><span style="font-size: 14px\;"><span class="s1" style="font-kerning: none\;">Foursome/Greens Fees:</span></span></strong><br />\n<span style="font-size: 14px\;"><span class="s1" style="font-kerning: none\;">Foursome: $550</span></span><br />\n<br />\n<strong><span style="font-size: 14px\;"><span class="s1" style="font-kerning: none\;">Hole Sponsorships:&nbsp\;</span></span></strong></span><br />\n<span style="color: rgb(0\, 0\, 0)\; font-size: 17px\;"><span style="font-size: 14px\;"><span class="s1" style="font-kerning: none\;">Hole Sponsorship: $175&nbsp\;</span></span></span></p>\n\n<p class="p3" style="margin: 0px\; font-variant-numeric: normal\; font-variant-east-asian: normal\; font-stretch: normal\; line-height: normal\; font-family: Arial\; -webkit-text-stroke-color: rgb(102\, 102\, 102)\; min-height: 20px\;"><span style="color: rgb(0\, 0\, 0)\; font-size: 17px\;"><span style="font-size: 14px\;"><span class="s1" style="font-kerning: none\;"><em>Includes:&nbsp\;</em></span></span></span><span style="color: rgb(0\, 0\, 0)\; font-size: 17px\;"><span style="font-size: 14px\;"><span class="s1" style="font-kerning: none\;"><em>Signage at hole &amp\;&nbsp\;the option for your company to set up a table/booth at the tee box of the hole and two lunches/dinners. </em><br />\n<br />\n<strong>Dinner Only:</strong><br />\nDinner Tickets for additional attendees and volunteers:&nbsp\;$35<br />\n<br />\n<strong><span style="font-size:24px\;"><span style="font-family:arial\;">Interested in </span></span></strong></span></span></span><strong><span style="font-size:24px\;"><span style="font-family:arial\;">volunteering<span style="color: rgb(0\, 0\, 0)\;"><span class="s1" style="font-kerning: none\;">?<a href="https://www.signupgenius.com/go/60B054DA4A82BA5FD0-2022"> Click here to get signed up!&nbsp\;</a></span></span></span></span></strong></p>\n
LOCATION:Fawn Lake Golf & Country Club
UID:e.9458.3595
SEQUENCE:3
DTSTAMP:20260419T232955Z
URL:https://members.fabava.com/events/details/2022-spring-golf-tournament-3595
END:VEVENT

END:VCALENDAR
