BEGIN:VCALENDAR
VERSION:2.0
PRODID:-//ChamberMaster//Event Calendar 2.0//EN
METHOD:PUBLISH
X-PUBLISHED-TTL:P3D
REFRESH-INTERVAL:P3D
CALSCALE:GREGORIAN
BEGIN:VEVENT
DTSTART:20260610T150000Z
DTEND:20260610T160000Z
X-MICROSOFT-CDO-ALLDAYEVENT:FALSE
SUMMARY:Associates Advisory Council Meeting - 2026
DESCRIPTION:The FABA Associates Advisory Committee serves as the collective voice of associate members strengthening their connection to the association while actively supporting FABA's builder members and overall mission. The committee works to enhance communication\, collaboration\, and engagement at FABA.
X-ALT-DESC;FMTTYPE=text/html:The FABA Associates Advisory Committee serves as the collective voice of associate members&mdash\;strengthening their connection to the association while actively supporting FABA&rsquo\;s builder members and overall mission. The committee works to enhance communication\, collaboration\, and engagement at FABA.&nbsp\;<br />\n&nbsp\;
LOCATION:FABA Office
UID:e.9458.4309
SEQUENCE:3
DTSTAMP:20260424T142223Z
URL:https://members.fabava.com/events/details/associates-advisory-council-meeting-2026-06-10-2026-4309
END:VEVENT

END:VCALENDAR
