BEGIN:VCALENDAR
VERSION:2.0
PRODID:-//ChamberMaster//Event Calendar 2.0//EN
METHOD:PUBLISH
X-PUBLISHED-TTL:P3D
REFRESH-INTERVAL:P3D
CALSCALE:GREGORIAN
BEGIN:VEVENT
DTSTART:20190716T153000Z
DTEND:20190716T170000Z
X-MICROSOFT-CDO-ALLDAYEVENT:FALSE
SUMMARY:BDX Envision Roadshow - Online Design Center
DESCRIPTION:Join us!  BDX presents the Envision Roadshow. Join us for a deep dive session on the industry's most powerful online design center. Hear how builders around the country are using technology to increase options sales\, improve customer satisfaction\, and make operations more efficient.\n\nIn these sessions\, BDX's presenter will cover how the Envision Online Design Center can help your business.The Envision Online Design Center is proven to:\n\n- Increase option sales by up to 30%\n\n- Drive more Qualified pre-sale leads with 2-3x higher conversions\n\n- Raise customer satisfaction scores and product brand recognition\n\n- Lower operational costs with reduced paperwork and quicker design center appointments.\\\n\n\n\nLunch will be served.\n\n \n\nLearn more about Envision
X-ALT-DESC;FMTTYPE=text/html:<h2 style="box-sizing: border-box\; margin: 0px\; padding: 0px 0px 10px\; border: 0px\; outline: 0px\; background-image: initial\; background-position: 0px 0px\; background-size: initial\; background-repeat: initial\; background-attachment: initial\; background-origin: initial\; background-clip: initial\; font-size: 23px\; vertical-align: baseline\; text-size-adjust: 100%\; line-height: 1em\; font-family: Raleway\, Helvetica\, Arial\, Lucida\, sans-serif\;"><span style="box-sizing: border-box\; margin: 0px\; padding: 0px\; border: 0px\; outline: 0px\; background: 0px 0px\; vertical-align: baseline\; text-size-adjust: 100%\; font-weight: 700\;">Join us!&nbsp\;</span>&nbsp\;BDX presents the Envision Roadshow. Join us for a deep dive session&nbsp\;on the industry&rsquo\;s most powerful online design center. Hear how builders around the country are using technology to increase options sales\, improve customer satisfaction\, and make operations more efficient.</h2>\n\n<h4 style="box-sizing: border-box\; margin: 0px\; padding: 0px 0px 10px\; border: 0px\; outline: 0px\; background-image: initial\; background-position: 0px 0px\; background-size: initial\; background-repeat: initial\; background-attachment: initial\; background-origin: initial\; background-clip: initial\; font-size: 18px\; vertical-align: baseline\; text-size-adjust: 100%\; line-height: 1.5em\; font-family: Raleway\, Helvetica\, Arial\, Lucida\, sans-serif\;">In these sessions\, BDX&#39\;s presenter will cover how the Envision Online Design Center can help your business.The Envision Online Design Center is proven to:</h4>\n\n<p>- Increase option sales by up to 30%<br />\n- Drive more Qualified pre-sale leads with 2-3x higher conversions<br />\n- Raise customer satisfaction scores and product brand recognition<br />\n- Lower operational costs with reduced paperwork and quicker design center appointments.\\<br />\n<br />\nLunch will be served.<br />\n&nbsp\;</p>\n\n<h4 style="line-height: 1.5em\; box-sizing: border-box\; margin: 0px\; padding: 0px 0px 10px\; border: 0px\; outline: 0px\; background-image: initial\; background-position: 0px 0px\; background-size: initial\; background-repeat: initial\; background-attachment: initial\; background-origin: initial\; background-clip: initial\; font-size: 18px\; vertical-align: baseline\; text-size-adjust: 100%\; font-family: Raleway\, Helvetica\, Arial\, Lucida\, sans-serif\;"><a href="https://thebdx.com/technology/envision/" onclick="window.open(this.href\, ''\, 'resizable=yes\,status=no\,location=no\,toolbar=no\,menubar=no\,fullscreen=no\,scrollbars=no\,dependent=no')\; return false\;" style="color: inherit\; box-sizing: border-box\; margin: 0px\; padding: 0px\; border: 0px\; outline: 0px\; background: 0px 0px\; vertical-align: baseline\; text-size-adjust: 100%\; text-decoration-line: none\;">Learn more about Envision</a></h4>\n\n<h2 style="box-sizing: border-box\; margin: 0px\; padding: 0px 0px 10px\; border: 0px\; outline: 0px\; background-image: initial\; background-position: 0px 0px\; background-size: initial\; background-repeat: initial\; background-attachment: initial\; background-origin: initial\; background-clip: initial\; font-size: 26px\; vertical-align: baseline\; text-size-adjust: 100%\; line-height: 1em\; font-family: Raleway\, Helvetica\, Arial\, Lucida\, sans-serif\; text-align: center\;">&nbsp\;</h2>\n
LOCATION:FABA Boardroom 3006 Lafayette Blvd. Fredericksburg\, VA 22408
UID:e.9458.2841
SEQUENCE:3
DTSTAMP:20260422T164645Z
URL:https://members.fabava.com/events/details/bdx-envision-roadshow-online-design-center-2841
END:VEVENT

END:VCALENDAR
