BEGIN:VCALENDAR
VERSION:2.0
PRODID:-//ChamberMaster//Event Calendar 2.0//EN
METHOD:PUBLISH
X-PUBLISHED-TTL:P3D
REFRESH-INTERVAL:P3D
CALSCALE:GREGORIAN
BEGIN:VEVENT
DTSTART:20190516T200000Z
DTEND:20190516T230000Z
X-MICROSOFT-CDO-ALLDAYEVENT:FALSE
SUMMARY:BOOTS Open House
DESCRIPTION:Open House/Ribbon Cutting for the Stafford BOOTS Program.\n\nJoin FABA's Stafford High School Student Chapter as they host an open house/ribbon cutting at the BOOTS house.
X-ALT-DESC;FMTTYPE=text/html:Open House/Ribbon Cutting for the Stafford BOOTS Program.<br />\nJoin FABA&#39\;s Stafford High School Student Chapter as they host an open house/ribbon cutting at the BOOTS house.
LOCATION:
UID:e.9458.2813
SEQUENCE:3
DTSTAMP:20260423T002343Z
URL:https://members.fabava.com/events/details/boots-open-house-2813
END:VEVENT

END:VCALENDAR
