BEGIN:VCALENDAR
VERSION:2.0
PRODID:-//ChamberMaster//Event Calendar 2.0//EN
METHOD:PUBLISH
X-PUBLISHED-TTL:P3D
REFRESH-INTERVAL:P3D
CALSCALE:GREGORIAN
BEGIN:VEVENT
DTSTART:20220721T140000Z
DTEND:20220721T160000Z
X-MICROSOFT-CDO-ALLDAYEVENT:FALSE
SUMMARY:CANCELLED - 2022 Blower Door Test Training
DESCRIPTION:Join us to learn what the new blower door test requirements are in the 2018 code. Learn all you need to know to make sure you pass under the new requirements.
X-ALT-DESC;FMTTYPE=text/html:Join us to learn what the new blower door test requirements are in the 2018 code. Learn all you need to know to make sure you pass under the new requirements.&nbsp\;
LOCATION:Off Lafayette Blvd\, Fredericksburg VA
UID:e.9458.3648
SEQUENCE:3
DTSTAMP:20260419T193522Z
URL:https://members.fabava.com/events/details/cancelled-2022-blower-door-test-training-3648
END:VEVENT

END:VCALENDAR
