BEGIN:VCALENDAR
VERSION:2.0
PRODID:-//ChamberMaster//Event Calendar 2.0//EN
METHOD:PUBLISH
X-PUBLISHED-TTL:P3D
REFRESH-INTERVAL:P3D
CALSCALE:GREGORIAN
BEGIN:VEVENT
DTSTART:20191227T140000Z
DTEND:20191227T150000Z
X-MICROSOFT-CDO-ALLDAYEVENT:FALSE
SUMMARY:City of Fredericksburg Bi-Monthly meeting
DESCRIPTION:City of Fredericksburg Bi-Monthly meeting
X-ALT-DESC;FMTTYPE=text/html:City of Fredericksburg Bi-Monthly meeting
LOCATION:FABA Boardroom
UID:e.9458.3028
SEQUENCE:3
DTSTAMP:20260422T075855Z
URL:https://members.fabava.com/events/details/city-of-fredericksburg-bi-monthly-meeting-12-27-2019-3028
END:VEVENT

END:VCALENDAR
