BEGIN:VCALENDAR
VERSION:2.0
PRODID:-//ChamberMaster//Event Calendar 2.0//EN
METHOD:PUBLISH
X-PUBLISHED-TTL:P3D
REFRESH-INTERVAL:P3D
CALSCALE:GREGORIAN
BEGIN:VEVENT
DTSTART:20220310T140000Z
DTEND:20220310T150000Z
X-MICROSOFT-CDO-ALLDAYEVENT:FALSE
SUMMARY:Culpeper County Quarterly Meeting
DESCRIPTION:Take this opportunity to meet with planning and building officials in Culpeper County and ask questions and get updates about issues that could impact the building industry\n\n\n\nFABA & Culpeper County Zoom Meeting\n\nThis is a recurring meeting that occurs every 3 months on the Second Thu\, until Dec 8\, 2022\, 6 occurrence(s)\n\n     \n\n2022 Meeting Dates:\n\n        Mar 10\, 2022 09:00 AM\n\n        Jun 9\, 2022 09:00 AM\n\n        Sep 8\, 2022 09:00 AM\n\n        Dec 8\, 2022 09:00 AM\n\n\n\nJoin Zoom Meeting\n\nhttps://us02web.zoom.us/j/81465535627?pwd=cEQyY3RSMmN0UE5kY1RmbWpLN1BaQT09\n\n\n\nMeeting ID: 814 6553 5627\n\nPasscode: 505250\n\nOne tap mobile\n\n+16465588656\,\,81465535627#\,\,\,\,*505250# US (New York)\n\n+13017158592\,\,81465535627#\,\,\,\,*505250# US (Washington DC)\n\n\n\nDial by your location\n\n        +1 646 558 8656 US (New York)\n\n        +1 301 715 8592 US (Washington DC)\n\n       \n\nMeeting ID: 814 6553 5627\n\nPasscode: 505250\n\n\n\nFind your local number: https://us02web.zoom.us/u/kdqYMfan3R
X-ALT-DESC;FMTTYPE=text/html:<span style="color: rgb(102\, 102\, 102)\; font-family: &quot\;Open Sans&quot\;\, Arial\, sans-serif\; font-size: 17px\;">Take this opportunity to meet with planning and building officials in Culpeper County and ask questions and get updates about issues that could impact the building industry</span><br />\n<br />\n<strong>FABA &amp\; Culpeper County Zoom Meeting</strong><br />\nThis is a recurring meeting that occurs every 3 months on the Second Thu\, until Dec 8\, 2022\, 6 occurrence(s)<br />\n&nbsp\; &nbsp\; &nbsp\;<br />\n2022 Meeting Dates:<br />\n&nbsp\; &nbsp\; &nbsp\; &nbsp\; Mar 10\, 2022 09:00 AM<br />\n&nbsp\; &nbsp\; &nbsp\; &nbsp\; Jun 9\, 2022 09:00 AM<br />\n&nbsp\; &nbsp\; &nbsp\; &nbsp\; Sep 8\, 2022 09:00 AM<br />\n&nbsp\; &nbsp\; &nbsp\; &nbsp\; Dec 8\, 2022 09:00 AM<br />\n<br />\nJoin Zoom Meeting<br />\nhttps://us02web.zoom.us/j/81465535627?pwd=cEQyY3RSMmN0UE5kY1RmbWpLN1BaQT09<br />\n<br />\nMeeting ID: 814 6553 5627<br />\nPasscode: 505250<br />\nOne tap mobile<br />\n+16465588656\,\,81465535627#\,\,\,\,*505250# US (New York)<br />\n+13017158592\,\,81465535627#\,\,\,\,*505250# US (Washington DC)<br />\n<br />\nDial by your location<br />\n&nbsp\; &nbsp\; &nbsp\; &nbsp\; +1 646 558 8656 US (New York)<br />\n&nbsp\; &nbsp\; &nbsp\; &nbsp\; +1 301 715 8592 US (Washington DC)<br />\n&nbsp\; &nbsp\; &nbsp\; &nbsp\;<br />\nMeeting ID: 814 6553 5627<br />\nPasscode: 505250<br />\n<br />\nFind your local number: https://us02web.zoom.us/u/kdqYMfan3R<br />\n&nbsp\;
LOCATION:FABA & Culpeper County Zoom Meeting This recurring meeting occurs every 3 months on the Second Thursday\, until Dec 8\, 2022 2022 Meeting Dates: Mar 10\, 2022 09:00 AM Jun 9\, 2022 09:00 AM Sep 8\, 2022 09:00 AM Dec 8\, 2022 09:00 AM Join Zoom Meeting https://us02web.zoom.us/j/81465535627?pwd=cEQyY3RSMmN0UE5kY1RmbWpLN1BaQT09 Meeting ID: 814 6553 5627 Passcode: 505250 One tap mobile +16465588656\,\,81465535627#\,\,\,\,*505250# US (New York) +13017158592\,\,81465535627#\,\,\,\,*505250# US (Washington DC) Dial by your location +1 646 558 8656 US (New York) +1 301 715 8592 US (Washington DC) +1 312 626 6799 US (Chicago) +1 669 900 9128 US (San Jose) +1 253 215 8782 US (Tacoma) +1 346 248 7799 US (Houston) Meeting ID: 814 6553 5627 Passcode: 505250 Find your local number: https://us02web.zoom.us/u/kdqYMfan3R
UID:e.9458.3360
SEQUENCE:3
DTSTAMP:20260420T030536Z
URL:https://members.fabava.com/events/details/culpeper-county-quarterly-meeting-03-10-2022-3360
END:VEVENT

END:VCALENDAR
