BEGIN:VCALENDAR
VERSION:2.0
PRODID:-//ChamberMaster//Event Calendar 2.0//EN
METHOD:PUBLISH
X-PUBLISHED-TTL:P3D
REFRESH-INTERVAL:P3D
CALSCALE:GREGORIAN
BEGIN:VEVENT
DTSTART:20211102T130000Z
DTEND:20211103T020000Z
X-MICROSOFT-CDO-ALLDAYEVENT:FALSE
SUMMARY:FAB Foundation
DESCRIPTION:
X-ALT-DESC;FMTTYPE=text/html:
LOCATION:
UID:e.9458.1309
SEQUENCE:3
DTSTAMP:20260420T102825Z
URL:https://members.fabava.com/events/details/fab-foundation-11-03-2021-1309
END:VEVENT

END:VCALENDAR
